BEGIN:VCALENDAR
VERSION:2.0
PRODID:-//ChamberMaster//Event Calendar 2.0//EN
METHOD:PUBLISH
X-PUBLISHED-TTL:P3D
REFRESH-INTERVAL:P3D
CALSCALE:GREGORIAN
BEGIN:VEVENT
DTSTART:20140204T230000Z
DTEND:20140204T233000Z
X-MICROSOFT-CDO-ALLDAYEVENT:FALSE
SUMMARY:YPoNV - Trivia Night - Postponed
DESCRIPTION:2/4/14 POSTPONED\n\n\n\n\n\nYoung Professionals of Nashoba Valley (YPoNV)\n\nTrivia Night at the Holiday Inn Boxborough\n\n\n\n\n\nJoin us at 6pm  for networking.  At 630pm trivia will begin.  Invite a group of co-workers and/or friends to form a team (max of 6 per team).\n\n\n\nDon't have enough for a team?  Let us know and we'll partner people up!\n\n\n\nDon't forget to tell us your team name.. And we are suggesting teams come coordinated (but not required!)  Have fun and show us your team personality!
X-ALT-DESC;FMTTYPE=text/html:<span style="color: black\;"><span style="font-size:18px\;"><strong><span style="background-color:#ff0000\;">2/4/14 POSTPONED</span></strong></span></span><br />\n<br />\n<br />\n<span style="color: black\;"><span style="font-family: segoe ui\,sans-serif\;"><span style="font-size: 14pt\;">Young Professionals of Nashoba Valley (YPoNV)<br />\nTrivia Night at the Holiday Inn Boxborough</span></span></span><br />\n<br />\n<br />\n<span style="color: black\;"><span style="font-family: segoe ui\,sans-serif\;"><span style="font-size: 14pt\;">Join us at 6pm&nbsp\; for networking.&nbsp\; At&nbsp\;630pm trivia will begin. &nbsp\;Invite a group of co-workers and/or friends to form a team (max of 6 per team)</span>.</span></span><br />\n<br />\n<span style="color: black\;"><span style="font-family: segoe ui\,sans-serif\;"><span style="font-size: 14pt\;">Don&rsquo\;t have enough for a team?&nbsp\; Let us know and we&rsquo\;ll partner people up!</span></span></span><br />\n<br />\n<span style="color: black\;"><span style="font-family: segoe ui\,sans-serif\;"><span style="font-size: 14pt\;">Don&rsquo\;t forget to tell us your team name.. And we are suggesting teams come coordinated (but not required!)&hellip\; Have fun and show us your team personality!</span></span></span>&nbsp\; &nbsp\;&nbsp\;&nbsp\;&nbsp\;&nbsp\;&nbsp\;&nbsp\;&nbsp\;&nbsp\;&nbsp\;&nbsp\;&nbsp\;&nbsp\;&nbsp\;
LOCATION:Holiday Inn Boxborough 242 Adams Place Boxborough MA
UID:e.518.16105
SEQUENCE:3
DTSTAMP:20260425T154547Z
URL:https://business.nvcoc.com/events/details/yponv-trivia-night-postponed-02-04-2014-16105
END:VEVENT

END:VCALENDAR
