BEGIN:VCALENDAR
VERSION:2.0
PRODID:-//ChamberMaster//Event Calendar 2.0//EN
METHOD:PUBLISH
X-PUBLISHED-TTL:P3D
REFRESH-INTERVAL:P3D
CALSCALE:GREGORIAN
BEGIN:VEVENT
DTSTART:20131114T223000Z
DTEND:20131115T003000Z
X-MICROSOFT-CDO-ALLDAYEVENT:FALSE
SUMMARY:YPoNV - Paint Night
DESCRIPTION:Painting Social\n\nwith Collins Art Work Center\n\nat Old Timer Restaurant\n\n \n\nJoin us for a fun night out with friends - old & new. Great opportunity to meet other local young professionals!\n\n \n\nLimited seating...  RSVP early!\n\n \n\nThurs.  11/14/13\n\n5:30pm - 7:30pm\n\nat Old Timer Restaurant\n\n155 Church St.\, Clinton\n\n$30pp (includes pizza)\n\nCash bar\n\n \n\nLIMITED SEATING\n\nRSVP Required\n\nMikayla@nvcoc.com\n\n978-772-6976
X-ALT-DESC;FMTTYPE=text/html:<span style="color: rgb(81\, 121\, 187)\;"><span style="font-family: ravie\;"><span style="font-size: 36pt\;">Painting Social</span></span></span><br />\n<strong><span style="font-family: rockwell\,serif\;"><span style="font-size: 25pt\;">with Collins Art Work Center</span></span></strong><br />\n<strong><span style="font-family: rockwell\,serif\;"><span style="font-size: 20pt\;">at Old Timer Restaurant</span></span></strong><br />\n&nbsp\;<br />\n<em><span style="color: rgb(27\, 62\, 147)\;"><span style="font-size: 25pt\;">Join us for a fun night out with friends - old &amp\; new. Great opportunity to meet other local young professionals!</span></span></em><br />\n&nbsp\;<br />\n<span style="color: rgb(27\, 62\, 147)\;"><span style="font-size: 24pt\;">Limited seating...&nbsp\; RSVP early!</span></span><br />\n&nbsp\;<br />\n<span style="font-family: georgia\,serif\;">Thurs.&nbsp\; 11/14/13</span><br />\n<span style="font-family: georgia\,serif\;">5:30pm - 7:30pm</span><br />\n<span style="font-family: georgia\,serif\;">at Old Timer Restaurant</span><br />\n<span style="font-family: georgia\,serif\;">155 Church St.\, Clinton</span><br />\n<span style="font-family: georgia\,serif\;">$30pp (includes pizza)</span><br />\n<span style="font-family: georgia\,serif\;">Cash bar</span><br />\n&nbsp\;<br />\n<span style="font-family: georgia\,serif\;">LIMITED SEATING</span><br />\n<span style="font-family: georgia\,serif\;">RSVP Required</span><br />\n<span style="font-family: georgia\,serif\;">Mikayla@nvcoc.com</span><br />\n<span style="font-family: georgia\,serif\;">978-772-6976</span><br />\n
LOCATION:at Old Timer Restaurant 155 Church St.\, Clinton
UID:e.518.15224
SEQUENCE:3
DTSTAMP:20260426T034843Z
URL:https://business.nvcoc.com/events/details/yponv-paint-night-11-14-2013-15224
END:VEVENT

END:VCALENDAR
