BEGIN:VCALENDAR
VERSION:2.0
PRODID:-//ChamberMaster//Event Calendar 2.0//EN
METHOD:PUBLISH
X-PUBLISHED-TTL:P3D
REFRESH-INTERVAL:P3D
CALSCALE:GREGORIAN
BEGIN:VEVENT
DTSTART:20150211T233000Z
DTEND:20150212T020000Z
X-MICROSOFT-CDO-ALLDAYEVENT:FALSE
SUMMARY:YPoNV - Musical Bingo at Simple Man Saloon
DESCRIPTION:Musical Bingo at Simple Man Saloon\n\n\n\nJoin us for a fun night out with friends - old & new. \n\nGreat opportunity to meet other local young professionals! \n\n\n\nPlan on having FUN!
X-ALT-DESC;FMTTYPE=text/html:<br />\n<br />\n<strong><span style="font-size:20px\;">Musical Bingo at Simple Man Saloon</span></strong><br />\n<br />\nJoin us for a fun night out with&nbsp\;friends - old &amp\; new.&nbsp\;<br />\nGreat opportunity to meet&nbsp\;other local young professionals!&nbsp\;<br />\n<br />\nPlan on having FUN!<br />\n&nbsp\;
LOCATION:Simple Man Saloon 119 High Street Clinton
UID:e.518.18902
SEQUENCE:3
DTSTAMP:20260424T135253Z
URL:https://business.nvcoc.com/events/details/yponv-musical-bingo-at-simple-man-saloon-02-11-2015-18902
END:VEVENT

END:VCALENDAR
