BEGIN:VCALENDAR
VERSION:2.0
PRODID:-//ChamberMaster//Event Calendar 2.0//EN
METHOD:PUBLISH
X-PUBLISHED-TTL:P3D
REFRESH-INTERVAL:P3D
CALSCALE:GREGORIAN
BEGIN:VEVENT
DTSTART:20140401T220000Z
DTEND:20140402T000000Z
X-MICROSOFT-CDO-ALLDAYEVENT:FALSE
SUMMARY:YPoNV - Laser Tag
DESCRIPTION:Young Professionals of Nashoba Valley (YPoNV) Laser Tag\n\n\n\nJoin us for a fun night out with friends - old & new. Great opportunity to meet other local young professionals! \n\n \n\nLimited spots available...  RSVP early!
X-ALT-DESC;FMTTYPE=text/html:<span style="color:black\;"><span style="font-family:segoe ui\,sans-serif\;"><span style="font-size:14.0pt\;">Young Professionals of&nbsp\;Nashoba&nbsp\;Valley (YPoNV) Laser Tag</span></span></span><br />\n<br />\n<span style="color:black\;"><span style="font-family:segoe ui\,sans-serif\;"><span style="font-size:14.0pt\;">Join us for a fun night out with friends - old &amp\; new. Great opportunity to meet other local young professionals! </span></span></span><br />\n&nbsp\;<br />\n<span style="color:black\;"><span style="font-family:segoe ui\,sans-serif\;"><span style="font-size:14.0pt\;">Limited spots available...&nbsp\; RSVP early!</span></span></span>
LOCATION:Roll on America 90 Duval Road Lancaster\, MA
UID:e.518.16668
SEQUENCE:3
DTSTAMP:20260425T102727Z
URL:https://business.nvcoc.com/events/details/yponv-laser-tag-04-01-2014-16668
END:VEVENT

END:VCALENDAR
