BEGIN:VCALENDAR
VERSION:2.0
PRODID:-//ChamberMaster//Event Calendar 2.0//EN
METHOD:PUBLISH
X-PUBLISHED-TTL:P3D
REFRESH-INTERVAL:P3D
CALSCALE:GREGORIAN
BEGIN:VEVENT
DTSTART:20150317T213000Z
DTEND:20150317T230000Z
X-MICROSOFT-CDO-ALLDAYEVENT:FALSE
SUMMARY:YPoNV - Happy Hour at Carlins Tavern
DESCRIPTION:NVCoC's Young Professionals will be networking at Carlins Tavern on Tuesday\, March 17th for happy hour from 5:30pm to 7pm which will include a Beirut Tournament (for those interested in participating) at 5:30pm. \n\n \n\nThe Chamber's Young Professionals Group offers networking opportunities and other events geared towards professionals between 21-45.  Drop by and stay for as little or as long as you like during these meetups.   \n\n\n\nAlthough this event is free\, we ask that you register to ensure we are prepared for your arrival.
X-ALT-DESC;FMTTYPE=text/html:<br />\nNVCoC&rsquo\;s Young Professionals will be networking at Carlins Tavern on Tuesday\, March 17th for happy hour from 5:30pm to 7pm which will&nbsp\;include a Beirut Tournament (for those interested in participating) at 5:30pm.&nbsp\;<br />\n&nbsp\;<br />\nThe Chamber&rsquo\;s Young Professionals Group offers networking opportunities and other events geared towards professionals between 21-45. &nbsp\;Drop by and stay for as little or as long as you like during these meetups. &nbsp\;&nbsp\;<br />\n<br />\nAlthough this event is free\, we ask that you register to ensure we are prepared for your arrival. &nbsp\;
LOCATION:Carlins Tavern 5-7 Depot Square Ayer
UID:e.518.20372
SEQUENCE:3
DTSTAMP:20260424T063709Z
URL:https://business.nvcoc.com/events/details/yponv-happy-hour-at-carlins-tavern-03-17-2015-20372
END:VEVENT

END:VCALENDAR
