BEGIN:VCALENDAR
VERSION:2.0
PRODID:-//ChamberMaster//Event Calendar 2.0//EN
METHOD:PUBLISH
X-PUBLISHED-TTL:P3D
REFRESH-INTERVAL:P3D
CALSCALE:GREGORIAN
BEGIN:VEVENT
DTSTART:20140213T130000Z
DTEND:20140213T143000Z
X-MICROSOFT-CDO-ALLDAYEVENT:FALSE
SUMMARY:Workplace Management Breakfast - POSTPONED!
DESCRIPTION:2/12/14 Due to the impending storm\, we are going to reschedule this event.  \n\n	\n\n	\n\n	\n\n	Nashoba Valley Chamber \n\n	Workplace Management Council\n\n	Sponsored by Holiday Inn Boxborough\n\n	 \n\n	Topic: Employee Assistance Programs: Their Evolving Role\n\n	\n\n	In this day of constant change\, competing home and work demands\, and pressure for continued efficiency\, employees need creative ways to make it all work. This program will discuss EAP best practices and the role EAPs can plan in supporting employee wellness and engagement initiatives.   Participants will discuss how to assess their organizations' needs and evaluate EAP services available in the market. \n\n	 \n\n	About our guest speaker: Seth Moeller\, President\, KGA\, Inc.\n\n	 \n\n	In 2013 Seth became KGA's President.  He works closely with clients and prospective clients to ensure KGA's EAP\, HR Solutions and Wellness Services are aligned with strategic employee issues and organizational transformation. Seth's background is in organization development and talent management from financial services\, health care\, technology and consulting. Seth has a B.A. from the University of Vermont and an M.A. in Organizational Psychology from Columbia University.
X-ALT-DESC;FMTTYPE=text/html:<p>\n	<br />\n	<span style="font-size: 16px\;"><span style="color: rgb(255\, 0\, 0)\;">2/12/14 Due to the impending storm\, we are going to reschedule this event. &nbsp\;</span></span><br />\n	<br />\n	<br />\n	<br />\n	<strong><span style="color: rgb(0\, 112\, 192)\;"><span style="font-family: calibri\,sans-serif\;"><span style="font-size: 15pt\;">Nashoba Valley Chamber </span></span></span></strong><br />\n	<strong><span style="color: rgb(0\, 112\, 192)\;"><span style="font-family: calibri\,sans-serif\;"><span style="font-size: 15pt\;">Workplace Management Council</span></span></span></strong><br />\n	<strong><span style="color: rgb(0\, 112\, 192)\;"><span style="font-family: calibri\,sans-serif\;"><span style="font-size: 15pt\;">Sponsored by Holiday Inn Boxborough</span></span></span></strong><br />\n	&nbsp\;<br />\n	<strong><span style="color: rgb(0\, 112\, 192)\;"><span style="font-family: calibri\,sans-serif\;"><span style="font-size: 15pt\;">Topic: Employee Assistance Programs: Their Evolving Role</span></span></span></strong><br />\n	<br />\n	<span style="color: rgb(0\, 112\, 192)\;"><span style="font-size: 13pt\;">In this day of constant change\, competing home and work demands\, and pressure for continued efficiency\, employees need creative ways to make it all work. This program will discuss EAP best practices and the role EAPs can plan in supporting employee wellness and engagement initiatives.&nbsp\;&nbsp\; Participants will discuss how to assess their organizations&rsquo\; needs and evaluate EAP services available in the market. </span></span><br />\n	&nbsp\;<br />\n	<strong><span style="color: rgb(0\, 112\, 192)\;"><span style="font-size: 15pt\;">About our guest speaker: Seth Moeller\, President\, KGA\, Inc.</span></span></strong><br />\n	&nbsp\;<br />\n	<span style="color: rgb(0\, 112\, 192)\;"><span style="font-size: 13pt\;">In 2013 Seth became KGA&rsquo\;s President.&nbsp\; He works closely with clients and prospective clients to ensure KGA&rsquo\;s EAP\, HR Solutions and Wellness Services are aligned with strategic employee issues and organizational transformation. Seth&rsquo\;s background is in organization development and talent management from financial services\, health care\, technology and consulting. Seth has a B.A. from the University of Vermont and an M.A. in Organizational Psychology from Columbia University.&#65279\;&nbsp\;</span></span><br />\n	&nbsp\;</p>\n
LOCATION:MassDevelopment 33 Andrews Parkway Devens MA
UID:e.518.16138
SEQUENCE:3
DTSTAMP:20260425T155602Z
URL:https://business.nvcoc.com/events/details/workplace-management-breakfast-postponed-02-13-2014-16138
END:VEVENT

END:VCALENDAR
