BEGIN:VCALENDAR
VERSION:2.0
PRODID:-//ChamberMaster//Event Calendar 2.0//EN
METHOD:PUBLISH
X-PUBLISHED-TTL:P3D
REFRESH-INTERVAL:P3D
CALSCALE:GREGORIAN
BEGIN:VEVENT
DTSTART:20131119T130000Z
DTEND:20131119T143000Z
X-MICROSOFT-CDO-ALLDAYEVENT:FALSE
SUMMARY:Workplace Management Breakfast - OSHA
DESCRIPTION:Nashoba Valley Chamber \n\nWorkplace Management Council\n\nOSHA \n\n \n\nEvent Sponsored by Holiday Inn Boxborough\n\n \n\n\n	Join us to better understand OSHA requirements\, policies and procedures.  In addition\, you'll learn about resources that will help fund OSHA training.\n\n	 \n\n	This workshop is essential for all business owners and managers who want to understand OSHA guidelines and directives that are designed for safety and better health management.  \n\n	 \n\n	Who should attend: Any manager with \n\n	responsibility for OSHA regulations and training.\n\n	 \n\n	What you'll learn:\n\n	Broaden your knowledge on the recognition\, avoidance\, and prevention of safety and health hazards in the workplace \n\n	 \n\n	Know what regulations you need to comply with\n\n	 \nHow your company can financially benefit from lower worker injury and illnesses\, lower compensation costs\, lower equipment damage and product losses\, and lower lost workdays. \n\n \n\nGuest speakers:\n\nKathleen Manson\, Office of Safety\, Department of Industrial \n\nAccidents and Dale Varney\, Compliance Specialist from OSHA
X-ALT-DESC;FMTTYPE=text/html:<span style="color: black\;"><span style="font-family: copperplate gothic light\,sans-serif\;"><span style="font-size: 16pt\;">Nashoba Valley Chamber </span></span></span><br />\n<span style="color: black\;"><span style="font-family: copperplate gothic light\,sans-serif\;"><span style="font-size: 18pt\;">Workplace Management Council</span></span></span><br />\n<font color="#000000" face="copperplate gothic light\, sans-serif"><span style="font-size: 33px\;">OSHA </span></font><br />\n&nbsp\;<br />\n<strong><em><span style="color: black\;"><span style="font-size: 17pt\;">Event Sponsored by Holiday Inn Boxborough</span></span></em></strong><br />\n&nbsp\;<br />\n<div>\n	Join us to better understand OSHA requirements\, policies and procedures. &nbsp\;In addition\, you&rsquo\;ll learn about resources that will help fund OSHA training.</div>\n<div>\n	&nbsp\;</div>\n<div>\n	This workshop is essential for all business owners and managers who want to understand OSHA guidelines and directives that are designed for safety and better health management. &nbsp\;</div>\n<div>\n	&nbsp\;</div>\n<div>\n	Who should attend: Any manager with&nbsp\;</div>\n<div>\n	responsibility for OSHA regulations and training.</div>\n<div>\n	&nbsp\;</div>\n<div>\n	What you&rsquo\;ll learn:</div>\n<div>\n	Broaden your knowledge on the recognition\, avoidance\, and prevention of safety and health hazards in the workplace&nbsp\;</div>\n<div>\n	&nbsp\;</div>\n<div>\n	Know what regulations you need to comply with</div>\n<div>\n	&nbsp\;</div>\nHow your company can financially benefit from lower worker injury and illnesses\, lower compensation costs\, lower equipment damage and product losses\, and lower lost workdays.&nbsp\;<br />\n&nbsp\;<br />\n<font color="#000000"><span style="font-size: 20px\;"><b><i>Guest speakers:</i></b></span></font><br />\nKathleen Manson\, Office of Safety\, Department of Industrial&nbsp\;<br />\nAccidents and Dale Varney\, Compliance Specialist from OSHA&nbsp\;<br />\n&nbsp\;<br />\n
LOCATION:MassDevelopment 33 Andrews Parkway\, Devens
UID:e.518.15160
SEQUENCE:3
DTSTAMP:20260426T024002Z
URL:https://business.nvcoc.com/events/details/workplace-management-breakfast-osha-11-19-2013-15160
END:VEVENT

END:VCALENDAR
