BEGIN:VCALENDAR
VERSION:2.0
PRODID:-//ChamberMaster//Event Calendar 2.0//EN
METHOD:PUBLISH
X-PUBLISHED-TTL:P3D
REFRESH-INTERVAL:P3D
CALSCALE:GREGORIAN
BEGIN:VEVENT
DTSTART:20140304T130000Z
DTEND:20140304T143000Z
X-MICROSOFT-CDO-ALLDAYEVENT:FALSE
SUMMARY:Workplace Management Breakfast - Ethical Business Principles
DESCRIPTION:Ethical Business Principles What's your take? \n\n \n\nEvent Sponsored by Holiday Inn Boxborough\n\n \n\nUsing the Ethical Business Guide developed by the Rotary Club of Fairfield\, OH\, this mini-workshop presents five core principles for running an ethical business:\n\n \n\nEthical leadership\n\nConcern for customer \n\nIntegrity\n\nLoyalty\n\nRespect\n\n \n\nThrough roundtable discussion\, participants will delve into these principles and focus on three questions:\n\n \n\nWhat has been your experience with\n\n              regard to the ethical guidelines presented in this guide?\n\nDo you agree with these guidelines?\n\nShould other guidelines be considered?\n\n \n\nThe goal is to have participants leave the mini-workshop with a desire to review the role of ethics in their company and carefully consider decisions that could erode\, or improve\, their ethical culture. Every participant will also receive a copy of the Ethical Business Guide.\n\n \n\n \n\nGuest Presenters: Nashoba Valley Rotary Club\n\nThe Rotary Club of Nashoba Valley serves the communities of Bolton\, Lancaster\, and Stow\, Massachusetts. Our members are business\, community\, and professional leaders who meet weekly to plan local and international service projects\, host interesting speakers on local\, national\, and international issues\, and enjoy fellowship. We welcome all guests and interested potential members at our meetings. Meeting information is available on our website. For more information about the Rotary Club of Nashoba Valley\, contact info@nashobarotary.org or visit www.nashobarotary.org and www.facebook.com/nashobarotary.\n\n \n\nWorkshop presenters/facilitators include: Richard Simon\, President Elect  and Founder of two technology companies\; Ron Bott\, Founding President and experienced Executive Coach and Group Facilitator\; and Nanci Bishop\, Membership Chairperson.
X-ALT-DESC;FMTTYPE=text/html:<br />\n<br />\n&nbsp\;<br />\n&nbsp\;<br />\n&nbsp\;<br />\n<strong><span style="font-size: 13pt\;">Ethical Business Principles&mdash\;What&rsquo\;s your take? </span></strong><br />\n&nbsp\;<br />\n<strong><em><span style="color: rgb(63\, 242\, 0)\;"><span style="font-size: 13pt\;">Event Sponsored by Holiday Inn Boxborough</span></span></em></strong><br />\n&nbsp\;<br />\n<span style="font-size: 13pt\;">Using the Ethical Business Guide developed by the Rotary Club of Fairfield\, OH\, this mini-workshop presents five core principles for running an ethical business:</span><br />\n&nbsp\;<br />\n<span style="font-size: 13pt\;">Ethical leadership</span><br />\n<span style="font-size: 13pt\;">Concern for customer </span><br />\n<span style="font-size: 13pt\;">Integrity</span><br />\n<span style="font-size: 13pt\;">Loyalty</span><br />\n<span style="font-size: 13pt\;">Respect</span><br />\n&nbsp\;<br />\n<span style="font-size: 13pt\;">Through roundtable discussion\, participants will delve into these principles and focus on three questions:</span><br />\n&nbsp\;<br />\n<span style="font-size: 13pt\;">What has been your experience with<br />\n&nbsp\;&nbsp\;&nbsp\;&nbsp\;&nbsp\;&nbsp\;&nbsp\;&nbsp\;&nbsp\;&nbsp\; &nbsp\;&nbsp\; regard to the ethical guidelines presented in this guide?</span><br />\n<span style="font-size: 13pt\;">Do you agree with these guidelines?</span><br />\n<span style="font-size: 13pt\;">Should other guidelines be considered?</span><br />\n&nbsp\;<br />\n<span style="font-size: 13pt\;">The goal is to have participants leave the mini-workshop with a desire to review the role of ethics in their company and carefully consider decisions that could erode\, or improve\, their ethical culture. Every participant will also receive a copy of the Ethical Business Guide.</span><br />\n&nbsp\;<br />\n&nbsp\;<br />\n<strong><em><span style="color: rgb(0\, 74\, 141)\;"><span style="font-size: 13pt\;">Guest Presenters: Nashoba Valley Rotary Club</span></span></em></strong><br />\n<strong><em><span style="color: rgb(0\, 74\, 141)\;"><span style="font-size: 13pt\;">The Rotary Club of Nashoba Valley serves the communities of Bolton\, Lancaster\, and Stow\, Massachusetts. Our members are business\, community\, and professional leaders who meet weekly to plan local and international service projects\, host interesting speakers on local\, national\, and international issues\, and enjoy fellowship. We welcome all guests and interested potential members at our meetings. Meeting information is available on our website. For more information about the Rotary Club of Nashoba Valley\, contact info@nashobarotary.org or visit www.nashobarotary.org and www.facebook.com/nashobarotary.</span></span></em></strong><br />\n&nbsp\;<br />\n<strong><em><span style="color: rgb(0\, 74\, 141)\;"><span style="font-size: 13pt\;">Workshop presenters/facilitators include: Richard Simon\, President Elect&nbsp\; and Founder of two technology companies\; Ron Bott\, Founding President and experienced Executive Coach and Group Facilitator\; and Nanci Bishop\, Membership Chairperson.</span></span></em></strong><br />\n&nbsp\;<br />\n<br />\n&nbsp\;
LOCATION:MassDevelopment 33 Andrews Parkway\, Devens
UID:e.518.16607
SEQUENCE:3
DTSTAMP:20260425T150219Z
URL:https://business.nvcoc.com/events/details/workplace-management-breakfast-ethical-business-principles-03-04-2014-16607
END:VEVENT

END:VCALENDAR
