BEGIN:VCALENDAR
VERSION:2.0
PRODID:-//ChamberMaster//Event Calendar 2.0//EN
METHOD:PUBLISH
X-PUBLISHED-TTL:P3D
REFRESH-INTERVAL:P3D
CALSCALE:GREGORIAN
BEGIN:VEVENT
DTSTART:20141022T160000Z
DTEND:20141022T173000Z
X-MICROSOFT-CDO-ALLDAYEVENT:FALSE
SUMMARY:Women's Elite Success Team - Express Your Personal Style
DESCRIPTION:Express Your Personal Style\n\n \n\nLooking like a million on a budget is an artful skill easily learned and simply applied.  Accomplished most effectively and affordably when your dollars are spent on purchases that flatter your personal style.   Having your own Personal Style IS how you create Stylish Professional Business attire. Expressing your own Personal Style confidently is precisely the road to confidence building.  \n\n \n\nHow does your closet full of clothing support what you are up to in life? How do you create a plan for spending of your wardrobe dollars?  What percentage of the time do you feel like you look your best?  \n\n \n\nRenew thy self completely each day and do it again\, and again\, and again.\n\n \n\nPlease Come! Join! Participate in this insightful conversation. Take advantage of sharing this time and gain some simple skills to help you along the road of comfort and confidence in expressing your own personal style in every area of your life. \n\n \n\nBe powerful and intentional in designing your presentation to support your\n\nprofessional\, social\, and personal comfort ease and success.\n\n \n\nYou are invited to bring the one or two items in your closet that you bought with the best of intentions to wear\, but they still have the tags on them.  We all have at least one item in the closet like that.....\n\n \n\n \n\nAbout the Speaker:  Joanada Scott\, Image by Design\n\nJoanada Scott owns and operates Image by Design\, founded in 1986\, born out of her passion for inspiring beauty\, in a time-less fashion ~ through the most economic means.  \n\n \n\nAs a design consultant Joanada works one-on-one with her clients\, taking them through a truly transformational process of exploring their own personal style. Ultimately developing a strategic plan to build them working wardrobes that meet all their needs from nine to five ~ five to nine ~ and any other occasion that pops into their lives.  A wardrobe that reflects the client's personal style flatters the individual body type and suits their personal lives and professional objectives.
X-ALT-DESC;FMTTYPE=text/html:<div style="background:#eee\;border:1px solid #ccc\;padding:5px 10px\;"><span style="font-size:16px\;"><span style="font-family:times new roman\;"><span style="letter-spacing:1.5pt\;"><span style="color:windowtext\;">Express Your Personal Style</span></span><br />\n&nbsp\;<br />\n<span style="color:windowtext\;">Looking like a million on a budget is an artful skill easily learned and simply applied.&nbsp\; Accomplished most effectively and affordably when your dollars are spent on purchases that flatter your personal style.&nbsp\;&nbsp\; Having your own Personal Style IS how you create Stylish Professional Business attire. Expressing your own Personal Style confidently is precisely the road to confidence building.&nbsp\; </span><br />\n&nbsp\;<br />\n<span style="color:windowtext\;">How does your closet full of clothing support what you are up to in life? How do you create a plan for spending of your wardrobe dollars?&nbsp\; What percentage of the time do you feel like you look your best?&nbsp\; </span><br />\n&nbsp\;<br />\n<span style="color:windowtext\;">Renew thy self completely each day and do it again\, and again\, and again.</span><br />\n&nbsp\;<br />\n<span style="color:windowtext\;">Please Come! Join! Participate in this insightful conversation. Take advantage of sharing this time and gain some simple skills to help you along the road of comfort and confidence in expressing your own personal style in every area of your life. </span><br />\n&nbsp\;<br />\n<span style="color:windowtext\;">Be powerful and intentional in designing your presentation to support your<br />\nprofessional\, social\, and personal comfort ease and success.</span><br />\n&nbsp\;<br />\n<span style="color:windowtext\;">You are invited to bring the one or two items in your closet that you bought with the best of intentions to wear\, but they still have the tags on them.&nbsp\; We all have at least one item in the closet like that.....</span><br />\n&nbsp\;<br />\n&nbsp\;<br />\n<span style="color:windowtext\;">About the Speaker: &nbsp\;Joanada Scott\, Image by Design</span><br />\n<span style="color:windowtext\;">Joanada Scott owns and operates Image by Design\, founded in 1986\, born out of her passion for inspiring beauty\, in a time-less fashion ~ through the most economic means.&nbsp\; </span><br />\n&nbsp\;<br />\nAs a design consultant Joanada works one-on-one with her clients\, taking them through a truly transformational process of exploring their own personal style. Ultimately developing a strategic plan to build them working wardrobes that meet all their needs from nine to five ~ five to nine ~ and any other occasion that pops into their lives.&nbsp\; A wardrobe that reflects the client&rsquo\;s personal style flatters the individual body type and suits their personal lives and professional objectives.</span></span></div>\n
LOCATION:Museum of Russian Icons 203 Union Street \, Clinton
UID:e.518.18075
SEQUENCE:3
DTSTAMP:20260424T232514Z
URL:https://business.nvcoc.com/events/details/women-s-elite-success-team-express-your-personal-style-10-22-2014-18075
END:VEVENT

END:VCALENDAR
