BEGIN:VCALENDAR
VERSION:2.0
PRODID:-//ChamberMaster//Event Calendar 2.0//EN
METHOD:PUBLISH
X-PUBLISHED-TTL:P3D
REFRESH-INTERVAL:P3D
CALSCALE:GREGORIAN
BEGIN:VEVENT
DTSTART:20150630T230000Z
DTEND:20150902T003000Z
X-MICROSOFT-CDO-ALLDAYEVENT:FALSE
SUMMARY:* Video Game Programming (Grades 6 and up) (Roudenbush Community Center)
DESCRIPTION:Make your own video game and learn the gaming eco-system. Learn how to incorporate mechanics\, levels\, art and music into a video game. Create apps that can be published on the iTunes app store. Bring your own laptop\, Macbook preferred. $250\, 10 Tuesdays\, June 30 to September 1\, 7 to 8:30 p.m
X-ALT-DESC;FMTTYPE=text/html:Make your own video game and learn the gaming eco-system. Learn how to incorporate mechanics\, levels\, art and music into a video game. Create apps that can be published on the iTunes app store. Bring your own laptop\, Macbook preferred. $250\, 10 Tuesdays\, June 30 to September 1\, 7 to 8:30 p.m
LOCATION:Roudenbush Community Center\, Westford\, MA
UID:e.518.21024
SEQUENCE:3
DTSTAMP:20260424T021333Z
URL:https://business.nvcoc.com/events/details/video-game-programming-grades-6-and-up-roudenbush-community-center-06-30-2015-21024
END:VEVENT

END:VCALENDAR
