BEGIN:VCALENDAR
VERSION:2.0
PRODID:-//ChamberMaster//Event Calendar 2.0//EN
METHOD:PUBLISH
X-PUBLISHED-TTL:P3D
REFRESH-INTERVAL:P3D
CALSCALE:GREGORIAN
BEGIN:VEVENT
DTSTART;VALUE=DATE:20180129
DTEND;VALUE=DATE:20180130
TRANSP:TRANSPARENT
X-MICROSOFT-CDO-ALLDAYEVENT:TRUE
SUMMARY:* Universal Laws Discussion Circle
DESCRIPTION:Universal Laws \n\nDiscussion Circle\n\n \n\nJan 29 @ 12:52 pm   1:52 pm\n\n \n\nWe've all heard of the Law of Attraction!. But did you know that it's only one of the many Universal Laws?\n\n \n\nIt'd be great to have a road map to help us navigate the rules or laws of life! We go through our day\, doing the best we can\, making things happen\; but what if we had a little more information about how the Universe works and how we can work with it's laws to fully take responsibility for and create the lives we want to live? What miracles would we create for ourselves and others? Join me in this monthly Discussion Circle as we explore one of the Universal Laws through discussion\, meditations\, and energy work with each other. As each law is independent from the other feel free to join in as you are guided. [read more]\n\n \n\nCost:   $15 per class
X-ALT-DESC;FMTTYPE=text/html:<span style="color:#3661BD\;"><span style="font-family:arial\,sans-serif\;"><span style="font-size:9.0pt\;"><a href="http://r20.rs6.net/tn.jsp?f=001UTwa5Xrj3BcwlLd9slqL2jee4peCIfC4Kk8vWJQE1owveUm37k37-Yx4ieAjjiBnmqyWYlNv7m81Nvhfd6BBA32AWXm00SUVGprF_piljMB2Kl09Dh89XUnrX_eOYBpS19fs9lGoNQL8u8P7W7GvcF0WQQabCHIyk1_xXWyydQ2M46IcwV5aDtwQAwRbhunaFB-_MYK8hm5h4ppcAxW5d9jVseoTCZ4KpUBoXJp1k09hZzrDLzKa_fNtwtqGw54v&amp\;c=QBphHzR7YXK7fy8JKM7BM1XXFZKaNvYBRkkipjvEvsiIuGzlgxFQYw==&amp\;ch=mInr4ukc_flvcdS1grIRlBKJQmj_riLsem_PNMoN9B0CKE3mkfitMA==" target="_blank"><strong><span style="color:#789051\;"><span style="font-size:12.0pt\;">Universal Laws </span></span></strong></a></span></span></span><br />\n<span style="color:#3661BD\;"><span style="font-family:arial\,sans-serif\;"><span style="font-size:9.0pt\;"><a href="http://r20.rs6.net/tn.jsp?f=001UTwa5Xrj3BcwlLd9slqL2jee4peCIfC4Kk8vWJQE1owveUm37k37-Yx4ieAjjiBnmqyWYlNv7m81Nvhfd6BBA32AWXm00SUVGprF_piljMB2Kl09Dh89XUnrX_eOYBpS19fs9lGoNQL8u8P7W7GvcF0WQQabCHIyk1_xXWyydQ2M46IcwV5aDtwQAwRbhunaFB-_MYK8hm5h4ppcAxW5d9jVseoTCZ4KpUBoXJp1k09hZzrDLzKa_fNtwtqGw54v&amp\;c=QBphHzR7YXK7fy8JKM7BM1XXFZKaNvYBRkkipjvEvsiIuGzlgxFQYw==&amp\;ch=mInr4ukc_flvcdS1grIRlBKJQmj_riLsem_PNMoN9B0CKE3mkfitMA==" target="_blank"><strong><span style="color:#789051\;"><span style="font-size:12.0pt\;">Discussion Circle</span></span></strong></a></span></span></span><br />\n&nbsp\;<br />\n<span style="color:#2A4C7D\;"><span style="font-family:arial\,sans-serif\;">Jan 29 @ 12:52 pm &ndash\; 1:52 pm</span></span><br />\n&nbsp\;<br />\n<span style="color:#789051\;"><span style="font-family:arial\,sans-serif\;">We&rsquo\;ve all heard of the&nbsp\;<em>Law of Attraction!.&nbsp\;</em>But did you know that it&rsquo\;s only one of the many Universal Laws?</span></span><br />\n&nbsp\;<br />\n<span style="color:#789051\;"><span style="font-family:arial\,sans-serif\;">It&rsquo\;d be great to have a road map to help us navigate the rules or laws of life!&nbsp\;We go through our day\, doing the best we can\, making things happen\; but what if we had a little more information about how the Universe works and how we can work with it&rsquo\;s laws to fully take responsibility for and create the lives we want to live?&nbsp\;What miracles would we create for ourselves and others?&nbsp\;Join me in this monthly Discussion Circle as we explore one of the Universal Laws through discussion\, meditations\, and energy work with each other.&nbsp\;As each law is independent from the other feel free to join in as you are guided. <strong>[</strong></span></span><span style="color:#3661BD\;"><span style="font-family:arial\,sans-serif\;"><span style="font-size:9.0pt\;"><a href="http://r20.rs6.net/tn.jsp?f=001UTwa5Xrj3BcwlLd9slqL2jee4peCIfC4Kk8vWJQE1owveUm37k37-Yx4ieAjjiBnmqyWYlNv7m81Nvhfd6BBA32AWXm00SUVGprF_piljMB2Kl09Dh89XUnrX_eOYBpS19fs9lGoNQL8u8P7W7GvcF0WQQabCHIyk1_xXWyydQ2M46IcwV5aDtwQAwRbhunaFB-_MYK8hm5h4ppcAxW5d9jVseoTCZ4KpUBoXJp1k09hZzrDLzKa_fNtwtqGw54v&amp\;c=QBphHzR7YXK7fy8JKM7BM1XXFZKaNvYBRkkipjvEvsiIuGzlgxFQYw==&amp\;ch=mInr4ukc_flvcdS1grIRlBKJQmj_riLsem_PNMoN9B0CKE3mkfitMA==" target="_blank"><strong><span style="color:#789051\;"><span style="font-size:12.0pt\;">read more</span></span></strong></a></span></span></span><strong><span style="color:#789051\;"><span style="font-family:arial\,sans-serif\;">]</span></span></strong><br />\n&nbsp\;<br />\n<span style="color:#789051\;"><span style="font-family:arial\,sans-serif\;"><span style="font-size:12.0pt\;">Cost:&nbsp\;&nbsp\;&nbsp\;$15 per class</span></span></span>
LOCATION:
UID:e.518.32705
SEQUENCE:3
DTSTAMP:20260426T041942Z
URL:https://business.nvcoc.com/events/details/universal-laws-discussion-circle-32705
END:VEVENT

END:VCALENDAR
