BEGIN:VCALENDAR
VERSION:2.0
PRODID:-//ChamberMaster//Event Calendar 2.0//EN
METHOD:PUBLISH
X-PUBLISHED-TTL:P3D
REFRESH-INTERVAL:P3D
CALSCALE:GREGORIAN
BEGIN:VEVENT
DTSTART:20150609T210000Z
DTEND:20150610T000000Z
X-MICROSOFT-CDO-ALLDAYEVENT:FALSE
SUMMARY:Trivia Night (Postponed)
DESCRIPTION:6/8/15 - Due to forecast - event has been postponed.  Event will be rescheduled - more information to follow!\n\n\n\n\n\n\n\nPlease join us\, and the Greater Lowell Chamber of Commerce for a night of food\, fun\, and trivia! Test your knowledge against fellow Chamber members and enjoy a night outside on the concourse of LeLacheur Park. We want to thank the Lowell Spinners for hosting this event! Ticket prices also include two vouchers for any Spinners game this season!
X-ALT-DESC;FMTTYPE=text/html:<br />\n<span style="font-size:14px\;"><span style="color:#FF0000\;"><strong>6/8/15 - Due to forecast - event has been postponed. &nbsp\;Event will be rescheduled - more information to follow!</strong></span></span><br />\n<br />\n<br />\n<br />\nPlease join us\, and the Greater Lowell Chamber of&nbsp\;Commerce for a night of food\, fun\, and trivia! Test your knowledge against fellow Chamber members and enjoy a night outside on the concourse of LeLacheur Park. We want to thank the Lowell Spinners for hosting this event! Ticket prices also include two vouchers for any Spinners game this season!
LOCATION:LeLacheur Park 450 Aiken Street Lowell MA 01854
UID:e.518.21002
SEQUENCE:3
DTSTAMP:20260424T021040Z
URL:https://business.nvcoc.com/events/details/trivia-night-postponed-06-09-2015-21002
END:VEVENT

END:VCALENDAR
