BEGIN:VCALENDAR
VERSION:2.0
PRODID:-//ChamberMaster//Event Calendar 2.0//EN
METHOD:PUBLISH
X-PUBLISHED-TTL:P3D
REFRESH-INTERVAL:P3D
CALSCALE:GREGORIAN
BEGIN:VEVENT
DTSTART;VALUE=DATE:20180127
DTEND;VALUE=DATE:20180128
TRANSP:TRANSPARENT
X-MICROSOFT-CDO-ALLDAYEVENT:TRUE
SUMMARY:* Trivia Night 2018 - Save the date!
DESCRIPTION:Save the date- Saturday\, January 27th\, 7:00pm\, gather a team of friends and family to attend Groton Dunstable Education Foundation's (GDEF) Annual Trivia Night. The event will take place at the Groton Country Club located at 94 Lovers Lane\, Groton. \n\n\n\nWhat is Trivia Night?\n\nYou'll have lots of fun while supporting enrichment grants to Groton Dunstable district schools! Teams of 3-6 people answers 7 short rounds of questions in writing then scores are tabulated for each round\, as well as a total for the night\, and prizes are awarded to each member of the winning teams. Catch up with friends and neighbors while you enjoy snacks and a cash bar in a fun\, casual atmosphere. Come with your own team\, or come alone and we'll help you form a team.\n\n\n\nGDRHS National Honor Society Students volunteer to run trivia night and the evening will be emceed by Daniel Siracusa. Proceeds benefit the Groton Dunstable Education Foundation.
X-ALT-DESC;FMTTYPE=text/html:<span style="color: rgb(75\, 79\, 86)\; font-family: Helvetica\, Arial\, sans-serif\; font-size: 14px\;">Save the date- Saturday\, January 27th\, 7:00pm\, gather a team of friends and family to attend Groton Dunstable Education Foundation&rsquo\;s (GDEF) Annual Trivia Night. The event will take place at the Groton Country Club located at 94 Lovers Lane\, Groton.&nbsp\;</span><br style="color: rgb(75\, 79\, 86)\; font-family: Helvetica\, Arial\, sans-serif\; font-size: 14px\;" />\n<br style="color: rgb(75\, 79\, 86)\; font-family: Helvetica\, Arial\, sans-serif\; font-size: 14px\;" />\n<span style="color: rgb(75\, 79\, 86)\; font-family: Helvetica\, Arial\, sans-serif\; font-size: 14px\;">What is Trivia Night?</span><br style="color: rgb(75\, 79\, 86)\; font-family: Helvetica\, Arial\, sans-serif\; font-size: 14px\;" />\n<span style="color: rgb(75\, 79\, 86)\; font-family: Helvetica\, Arial\, sans-serif\; font-size: 14px\;">You&rsquo\;ll have lots of fun while supporting enrichment grants to Groton Dunstable district schools! Teams of 3-6 people answers 7 short rounds of questions in writing then scores are tabulated for each round\, as well as a total for the night\, and prizes are awarded to each member of the winning teams. Catch up with friends and neighbors while you enjoy snacks and a cash bar in a fun\, casual atmosphere. Come with your own team\, or come alone and we&rsquo\;ll help you form a team.</span><br style="color: rgb(75\, 79\, 86)\; font-family: Helvetica\, Arial\, sans-serif\; font-size: 14px\;" />\n<br style="color: rgb(75\, 79\, 86)\; font-family: Helvetica\, Arial\, sans-serif\; font-size: 14px\;" />\n<span style="color: rgb(75\, 79\, 86)\; font-family: Helvetica\, Arial\, sans-serif\; font-size: 14px\;">GDRHS National Honor Society Students volunteer to run trivia night and the evening will be emceed by Daniel Siracusa. Proceeds benefit the Groton Dunstable Education Foundation.</span>
LOCATION:
UID:e.518.32651
SEQUENCE:3
DTSTAMP:20260426T042456Z
URL:https://business.nvcoc.com/events/details/trivia-night-2018-save-the-date-32651
END:VEVENT

END:VCALENDAR
