BEGIN:VCALENDAR
VERSION:2.0
PRODID:-//ChamberMaster//Event Calendar 2.0//EN
METHOD:PUBLISH
X-PUBLISHED-TTL:P3D
REFRESH-INTERVAL:P3D
CALSCALE:GREGORIAN
BEGIN:VEVENT
DTSTART;VALUE=DATE:20180116
DTEND;VALUE=DATE:20180117
TRANSP:TRANSPARENT
X-MICROSOFT-CDO-ALLDAYEVENT:TRUE
SUMMARY:* TaraVista Job Fair - Mental Health Counselors\, RNs\, LPNs & More
DESCRIPTION:Visit www.taravista.care/jobfair to learn more. \n\n\n\nTaraVista's mission is to provide compassionate\, effective\, sustainable care for those suffering from psychiatric distress and co-occurring substance use. To accomplish this\, we have re-imagined how care is delivered   and as we plan to open our Child Unit we are actively seeking innovative\, energetic team members to help us realize this vision.\n\n\n\nCandidates will have the opportunity to tour our brand new facility\, meet with staff\, and interview on-site. We are currently hiring for the following positions for our Child Unit\, Young Adult Unit\, and Adult Unit:\n\n\n\nMental Health Counselors* (multiple positions available)\n\nRNs*\n\nLicensed Practical Nurses\n\nUnit Coordinator\n\nMental Health Techs\n\n\n\nFor specific job requirements and all available positions\, click here.\n\n\n\n*11pm-7am night shift offers industry-leading shift differentials.\n\n\n\nQuestions? Please email info@taravista.care directly. If you are unable able to attend the job fair\, please contact Ashley Smith at aparker-smith@taravista.care or call (978) 615-5200 x123 to discuss potential opportunities.
X-ALT-DESC;FMTTYPE=text/html:<span style="color: rgb(75\, 79\, 86)\; font-family: Helvetica\, Arial\, sans-serif\; font-size: 14px\;">Visit&nbsp\;</span><a data-lynx-mode="async" data-lynx-uri="https://l.facebook.com/l.php?u=http%3A%2F%2Fwww.taravista.care%2Fjobfair&amp\;h=ATNdlaxnoFgmZv9hoK7zvPvdg5pjcTvfeeboPY1pcshkpA5KSqS4bknMb_By0EeUEwExkgq8IjRqRm2yWb11iQ3XgsNaU0r4V-XgbNUJEFPXNU8U__W8VY5i7LUJcgfjREF4Th1UScec_WJV2CBVI1rM1EVjBlZOYm1arM3GD3xM9w" href="http://www.taravista.care/jobfair" rel="nofollow noopener" style="color: rgb(54\, 88\, 153)\; text-decoration-line: none\; font-family: Helvetica\, Arial\, sans-serif\; font-size: 14px\;" target="_blank">www.taravista.care/jobfair</a><span style="color: rgb(75\, 79\, 86)\; font-family: Helvetica\, Arial\, sans-serif\; font-size: 14px\;">&nbsp\;to learn more.&nbsp\;</span><br style="color: rgb(75\, 79\, 86)\; font-family: Helvetica\, Arial\, sans-serif\; font-size: 14px\;" />\n<br style="color: rgb(75\, 79\, 86)\; font-family: Helvetica\, Arial\, sans-serif\; font-size: 14px\;" />\n<span style="color: rgb(75\, 79\, 86)\; font-family: Helvetica\, Arial\, sans-serif\; font-size: 14px\;">TaraVista&rsquo\;s mission is to provide compassionate\, effective\, sustainable care for those suffering from psychiatric distress and co-occurring substance use. To accomplish this\, we have re-imagined how care is delivered &ndash\; and as we plan to open our Child Unit we are actively seeking innovative\, energetic team members to help us realize this vision.</span><br style="color: rgb(75\, 79\, 86)\; font-family: Helvetica\, Arial\, sans-serif\; font-size: 14px\;" />\n<br style="color: rgb(75\, 79\, 86)\; font-family: Helvetica\, Arial\, sans-serif\; font-size: 14px\;" />\n<span style="color: rgb(75\, 79\, 86)\; font-family: Helvetica\, Arial\, sans-serif\; font-size: 14px\;">Candidates will have the opportunity to tour our brand new facility\, meet with staff\, and interview on-site. We are currently hiring for the following positions for our Child Unit\, Young Adult Unit\, and Adult Unit:</span><br style="color: rgb(75\, 79\, 86)\; font-family: Helvetica\, Arial\, sans-serif\; font-size: 14px\;" />\n<br style="color: rgb(75\, 79\, 86)\; font-family: Helvetica\, Arial\, sans-serif\; font-size: 14px\;" />\n<span style="color: rgb(75\, 79\, 86)\; font-family: Helvetica\, Arial\, sans-serif\; font-size: 14px\;">Mental Health Counselors* (multiple positions available)</span><br style="color: rgb(75\, 79\, 86)\; font-family: Helvetica\, Arial\, sans-serif\; font-size: 14px\;" />\n<span style="color: rgb(75\, 79\, 86)\; font-family: Helvetica\, Arial\, sans-serif\; font-size: 14px\;">RNs*</span><br style="color: rgb(75\, 79\, 86)\; font-family: Helvetica\, Arial\, sans-serif\; font-size: 14px\;" />\n<span style="color: rgb(75\, 79\, 86)\; font-family: Helvetica\, Arial\, sans-serif\; font-size: 14px\;">Licensed Practical Nurses</span><br style="color: rgb(75\, 79\, 86)\; font-family: Helvetica\, Arial\, sans-serif\; font-size: 14px\;" />\n<span style="color: rgb(75\, 79\, 86)\; font-family: Helvetica\, Arial\, sans-serif\; font-size: 14px\;">Unit Coordinator</span><br style="color: rgb(75\, 79\, 86)\; font-family: Helvetica\, Arial\, sans-serif\; font-size: 14px\;" />\n<span class="text_exposed_show" style="display: inline\; font-family: Helvetica\, Arial\, sans-serif\; color: rgb(75\, 79\, 86)\; font-size: 14px\;">Mental Health Techs<br />\n<br />\nFor specific job requirements and all available positions\, click here.<br />\n<br />\n*11pm-7am night shift offers industry-leading shift differentials.<br />\n<br />\n<span style="font-family: inherit\;">Questions? Please email info@taravista.care directly. If you are unable able to attend the job fair\, please contact Ashley Smith at aparker-smith@taravista.ca</span><wbr />re or call (978) 615-5200 x123 to discuss potential opportunities.</span>
LOCATION:TaraVista Behavioral Health Center 85 Patton Road\, Devens
UID:e.518.32653
SEQUENCE:3
DTSTAMP:20260426T043246Z
URL:https://business.nvcoc.com/events/details/taravista-job-fair-mental-health-counselors-rns-lpns-more-32653
END:VEVENT

END:VCALENDAR
