BEGIN:VCALENDAR
VERSION:2.0
PRODID:-//ChamberMaster//Event Calendar 2.0//EN
METHOD:PUBLISH
X-PUBLISHED-TTL:P3D
REFRESH-INTERVAL:P3D
CALSCALE:GREGORIAN
BEGIN:VEVENT
DTSTART;VALUE=DATE:20180113
DTEND;VALUE=DATE:20180114
TRANSP:TRANSPARENT
X-MICROSOFT-CDO-ALLDAYEVENT:TRUE
SUMMARY:* Styrofoam Recycling
DESCRIPTION:Styrofoam Recycling January 13\n\nBolton Local and the Bolton DPW are co-sponsoring a free recycling event at the Bolton Transfer Station on Saturday\, January 13th from 10-3 where we will be collecting Styrofoam.\n\nFor Styrofoam\, we will accept clean\, dry\, white\, #6\, pre-formed packing and coolers. This type of Styrofoam "snaps" when folded and is often used for electronics\, toys\, and small appliance packaging. We will also accept dry\, white\, CLEAN\, food containers. New for this event\, we will accept packaging marked #4 LDPE\, "squishy" Styrofoam. Please keep the two types separate to help our workers at the event. Unfortunately\, we cannot accept packing peanuts or colored Styrofoam.
X-ALT-DESC;FMTTYPE=text/html:<p align="center" style="text-align:center\;line-height:18.0pt"><strong>Styrofoam Recycling January 13</strong><o:p></o:p></p>\n\n<p style="line-height:18.0pt">Bolton Local and the Bolton DPW are co-sponsoring a free recycling event at the Bolton Transfer Station on Saturday\, January 13th from 10-3 where we will be collecting Styrofoam.<o:p></o:p></p>\n\n<p style="line-height:18.0pt">For Styrofoam\, we will accept clean\, dry\, white\, #6\, pre-formed packing and coolers. This type of Styrofoam &quot\;snaps&quot\; when folded and is often used for electronics\, toys\, and small appliance packaging. We will also accept dry\, white\, CLEAN\, food containers. New for this event\, we will accept packaging marked #4 LDPE\, &quot\;squishy&quot\; Styrofoam. Please keep the two types separate to help our workers at the event. Unfortunately\, we cannot accept packing peanuts or colored Styrofoam.<o:p></o:p></p>\n
LOCATION:
UID:e.518.32643
SEQUENCE:3
DTSTAMP:20260426T041953Z
URL:https://business.nvcoc.com/events/details/styrofoam-recycling-32643
END:VEVENT

END:VCALENDAR
