BEGIN:VCALENDAR
VERSION:2.0
PRODID:-//ChamberMaster//Event Calendar 2.0//EN
METHOD:PUBLISH
X-PUBLISHED-TTL:P3D
REFRESH-INTERVAL:P3D
CALSCALE:GREGORIAN
BEGIN:VEVENT
DTSTART;VALUE=DATE:20150604
DTEND;VALUE=DATE:20150605
TRANSP:TRANSPARENT
X-MICROSOFT-CDO-ALLDAYEVENT:TRUE
SUMMARY:Ribbon Cutting - Workers' Credit Union\, Westford
DESCRIPTION:
X-ALT-DESC;FMTTYPE=text/html:
LOCATION:
UID:e.518.20985
SEQUENCE:3
DTSTAMP:20260424T021444Z
URL:https://business.nvcoc.com/events/details/ribbon-cutting-workers-credit-union-westford-06-04-2015-20985
END:VEVENT

END:VCALENDAR
