BEGIN:VCALENDAR
VERSION:2.0
PRODID:-//ChamberMaster//Event Calendar 2.0//EN
METHOD:PUBLISH
X-PUBLISHED-TTL:P3D
REFRESH-INTERVAL:P3D
CALSCALE:GREGORIAN
BEGIN:VEVENT
DTSTART:20150501T210000Z
DTEND:20150501T230000Z
X-MICROSOFT-CDO-ALLDAYEVENT:FALSE
SUMMARY:Ribbon Cutting at Starbucks (Littleton)
DESCRIPTION:WHAT: Starbucks will mark its store opening at The Point in Littleton\, MA with a grand opening celebration complete with ribbon cutting. Customers will receive free food and drink while enjoying live music and entertainment.\n\n\n\nWHEN: Friday\, May 1\, 2015 from 5:00 p.m. to 7:00 p.m.\n\n\n\nWHERE: Starbucks Littleton\, The Point\, Constitution Avenue\, Littleton\, MA\n\n\n\n\n\n\n\n\n\n\n\nABOUT THE POINT\n\nThe Point is the first mixed-use retail destination of its kind along Boston's I-495 Metro Northwest. Located at the intersection of I-495 and Route 119 in Littleton\, MA\, The Point serves the robust I-495/Route 2 market between Route 3 and I-90\, which includes the more than 250\,000 high-tech employees working at technology companies located along I-495's "Think Belt." The 540\,000 square foot center is home to Market Basket\, O'neil Cinemas\, DCU\, Starbucks\, Courtyard Marriott\, and many more. For more information\, visit www.ThePoint495.com.\n\n\n\n\n\nABOUT SAM PARK & CO.\n\nSam Park & Co. is a commercial real estate investment company that specializes in developing mixed-use projects. Based in Boston\, Sam Park & Co. reinvents underutilized properties through thoughtful redevelopment and with an infusion of high-quality tenants. Its in-house team is expert at evaluating financial\, market\, regulatory\, demographic\, and construction feasibility and is an authority on regulatory permitting and master planning. Sam Park & Co. has been involved in more than 10 million square feet of major commercial projects including 1265 Main Street\, Waltham\, MA (formerly Polaroid)\; Gloucester Crossing\, Gloucester\, MA\; and The Point\, Littleton\, MA. For more information\, visit www.samparkco.com.
X-ALT-DESC;FMTTYPE=text/html:WHAT: Starbucks will mark its store opening at The Point in Littleton\, MA with a grand opening celebration complete with ribbon cutting. Customers will receive free food and drink while enjoying live music and entertainment.<br />\n<br />\nWHEN: Friday\, May 1\, 2015 from 5:00 p.m. to 7:00 p.m.<br />\n<br />\nWHERE: Starbucks Littleton\, The Point\, Constitution Avenue\, Littleton\, MA<br />\n<br />\n<br />\n<br />\n<br />\n<br />\nABOUT THE POINT<br />\nThe Point is the first mixed-use retail destination of its kind along Boston&rsquo\;s I-495 Metro Northwest. Located at the intersection of I-495 and Route 119 in Littleton\, MA\, The Point serves the robust I-495/Route 2 market between Route 3 and I-90\, which includes the more than 250\,000 high-tech employees working at technology companies located along I-495&rsquo\;s &ldquo\;Think Belt.&rdquo\; The 540\,000 square foot center is home to Market Basket\, O&#39\;neil Cinemas\, DCU\, Starbucks\, Courtyard Marriott\, and many more. For more information\, visit www.ThePoint495.com.<br />\n<br />\n<br />\nABOUT SAM PARK &amp\; CO.<br />\nSam Park &amp\; Co. is a commercial real estate investment company that specializes in developing mixed-use projects. Based in Boston\, Sam Park &amp\; Co. reinvents underutilized properties through thoughtful redevelopment and with an infusion of high-quality tenants. Its in-house team is expert at evaluating financial\, market\, regulatory\, demographic\, and construction feasibility and is an authority on regulatory permitting and master planning. Sam Park &amp\; Co. has been involved in more than 10 million square feet of major commercial projects including 1265 Main Street\, Waltham\, MA (formerly Polaroid)\; Gloucester Crossing\, Gloucester\, MA\; and The Point\, Littleton\, MA. For more information\, visit www.samparkco.com.<br />\n<br />\n<br />\n<br />\n<br />\n&nbsp\;
LOCATION:Starbucks Littleton\, The Point\, Constitution Avenue\, Littleton\, MA
UID:e.518.20900
SEQUENCE:3
DTSTAMP:20260424T040918Z
URL:https://business.nvcoc.com/events/details/ribbon-cutting-at-starbucks-littleton-05-01-2015-20900
END:VEVENT

END:VCALENDAR
