BEGIN:VCALENDAR
VERSION:2.0
PRODID:-//ChamberMaster//Event Calendar 2.0//EN
METHOD:PUBLISH
X-PUBLISHED-TTL:P3D
REFRESH-INTERVAL:P3D
CALSCALE:GREGORIAN
BEGIN:VEVENT
DTSTART:20140116T170000Z
DTEND:20140116T180000Z
X-MICROSOFT-CDO-ALLDAYEVENT:FALSE
SUMMARY:Ribbon Cutting at One Ten Grill (Joint with Greater Lowell Chamber)
DESCRIPTION:The One Ten Grill is NOW OPEN!\n\n\n\nJoin us and the The Greater Lowell Chamber of Commerce this Thursday for a ribbon cutting at Noon to celebrate the grand reopening of One Ten Grill!\n\n\n\nCheck out the newly remodeled space! Enjoy some free appetizers and get a taste of their delicious menu. One Ten Grill has a full bar - and live music at night. Check them out!
X-ALT-DESC;FMTTYPE=text/html:<span style="color: rgb(51\, 51\, 51)\; font-family: 'lucida grande'\, tahoma\, verdana\, arial\, sans-serif\; font-size: 13.333333969116211px\; line-height: 17.98611068725586px\;">The&nbsp\;</span><a data-hovercard="/ajax/hovercard/page.php?id=383015461768186&amp\;extragetparams=%7B%22directed_target_id%22%3A0%7D" href="https://www.facebook.com/OneTenGrill" style="color: rgb(59\, 89\, 152)\; cursor: pointer\; text-decoration: none\; font-family: 'lucida grande'\, tahoma\, verdana\, arial\, sans-serif\; font-size: 13.333333969116211px\; line-height: 17.98611068725586px\;">One Ten Grill</a><span style="color: rgb(51\, 51\, 51)\; font-family: 'lucida grande'\, tahoma\, verdana\, arial\, sans-serif\; font-size: 13.333333969116211px\; line-height: 17.98611068725586px\;">&nbsp\;is NOW OPEN!</span><br style="color: rgb(51\, 51\, 51)\; font-family: 'lucida grande'\, tahoma\, verdana\, arial\, sans-serif\; font-size: 13.333333969116211px\; line-height: 17.98611068725586px\;" />\n<br style="color: rgb(51\, 51\, 51)\; font-family: 'lucida grande'\, tahoma\, verdana\, arial\, sans-serif\; font-size: 13.333333969116211px\; line-height: 17.98611068725586px\;" />\n<span style="color: rgb(51\, 51\, 51)\; font-family: 'lucida grande'\, tahoma\, verdana\, arial\, sans-serif\; font-size: 13.333333969116211px\; line-height: 17.98611068725586px\;">Join us and the&nbsp\;</span><a data-hovercard="/ajax/hovercard/page.php?id=146476561980&amp\;extragetparams=%7B%22directed_target_id%22%3A0%7D" href="https://www.facebook.com/greaterlowellchamber" style="color: rgb(59\, 89\, 152)\; cursor: pointer\; text-decoration: none\; font-family: 'lucida grande'\, tahoma\, verdana\, arial\, sans-serif\; font-size: 13.333333969116211px\; line-height: 17.98611068725586px\;">The Greater Lowell Chamber of Commerce</a>&nbsp\;<span style="color: rgb(51\, 51\, 51)\; font-family: 'lucida grande'\, tahoma\, verdana\, arial\, sans-serif\; font-size: 13.333333969116211px\; line-height: 17.98611068725586px\;">this Thursday for a ribbon cutting at Noon to celebrate the grand reopening of One Ten Grill!</span><br style="color: rgb(51\, 51\, 51)\; font-family: 'lucida grande'\, tahoma\, verdana\, arial\, sans-serif\; font-size: 13.333333969116211px\; line-height: 17.98611068725586px\;" />\n<br style="color: rgb(51\, 51\, 51)\; font-family: 'lucida grande'\, tahoma\, verdana\, arial\, sans-serif\; font-size: 13.333333969116211px\; line-height: 17.98611068725586px\;" />\n<span style="color: rgb(51\, 51\, 51)\; font-family: 'lucida grande'\, tahoma\, verdana\, arial\, sans-serif\; font-size: 13.333333969116211px\; line-height: 17.98611068725586px\;">Check out the newly remodeled space! Enjoy some free appetizers and get a taste of their delicious menu. One Ten Grill has a full bar - and live music at night. Check them out!</span>
LOCATION:
UID:e.518.16107
SEQUENCE:3
DTSTAMP:20260425T170624Z
URL:https://business.nvcoc.com/events/details/ribbon-cutting-at-one-ten-grill-joint-with-greater-lowell-chamber-01-16-2014-16107
END:VEVENT

END:VCALENDAR
