BEGIN:VCALENDAR
VERSION:2.0
PRODID:-//ChamberMaster//Event Calendar 2.0//EN
METHOD:PUBLISH
X-PUBLISHED-TTL:P3D
REFRESH-INTERVAL:P3D
CALSCALE:GREGORIAN
BEGIN:VEVENT
DTSTART:20131204T190000Z
DTEND:20131204T200000Z
X-MICROSOFT-CDO-ALLDAYEVENT:FALSE
SUMMARY:Ribbon Cutting at Dunkin Donuts at Mall at Whitney Field
DESCRIPTION:Ribbon Cutting at Dunkin' Dunuts at the Mall at Whitney Field\n\n2pm
X-ALT-DESC;FMTTYPE=text/html:Ribbon Cutting at Dunkin&#39\; Dunuts at the Mall at Whitney Field<br />\n2pm
LOCATION:
UID:e.518.15315
SEQUENCE:3
DTSTAMP:20260425T193140Z
URL:https://business.nvcoc.com/events/details/ribbon-cutting-at-dunkin-donuts-at-mall-at-whitney-field-12-04-2013-15315
END:VEVENT

END:VCALENDAR
