BEGIN:VCALENDAR
VERSION:2.0
PRODID:-//ChamberMaster//Event Calendar 2.0//EN
METHOD:PUBLISH
X-PUBLISHED-TTL:P3D
REFRESH-INTERVAL:P3D
CALSCALE:GREGORIAN
BEGIN:VEVENT
DTSTART:20140404T190000Z
DTEND:20140404T200000Z
X-MICROSOFT-CDO-ALLDAYEVENT:FALSE
SUMMARY:Ribbon Cutting at CK Bikes
DESCRIPTION:Join the Nashoba Valley Chamber of Commerce (NVCoC) and the North Central Mass Chamber of Commerce (NCMCC) on Friday\, April 4\, 2014 at 3pm as we hold a Ribbon Cutting Ceremony to celebrate the opening of CK Bikes at 27 Forbush Mill Road in Bolton. \n\n \n\nCK Bikes is owned and operated by Craig and Kyra Kilmer\, a lifelong sports enthusiast who has been riding and repairing bikes for years.  CK Bikes began as a mobile repair shop under the name\, "CK Mobile Bike Repair".  The transition from Mobile unit to brick-and-mortar has allowed Craig to offer full inventory of parts and accessories\, as well as expand his services   which now include Cabin Fever (a basic tune up) and The Wrecker (a major overhaul).   Craig is an engineer and graduate of Barnett's Bicycle Institute of Colorado Springs\, Colorado.\n\n \n\nPlease join us on Friday\, April 4th at 3pm to help us celebrate this business success!
X-ALT-DESC;FMTTYPE=text/html:<br />\nJoin the Nashoba Valley Chamber of Commerce (NVCoC) and the North Central Mass Chamber of Commerce (NCMCC) on Friday\, April 4\, 2014 at 3pm as we hold a Ribbon Cutting Ceremony to celebrate the opening of CK Bikes at 27 Forbush Mill Road in Bolton.&nbsp\;<br />\n&nbsp\;<br />\nCK Bikes is owned and operated by Craig and Kyra Kilmer\, a lifelong sports enthusiast who has been riding and repairing bikes for years.&nbsp\; CK Bikes began as a mobile repair shop under the name\, &ldquo\;CK Mobile Bike Repair&rdquo\;.&nbsp\; The transition from Mobile unit to brick-and-mortar has allowed Craig to offer full inventory of parts and accessories\, as well as expand his services &ndash\; which now include Cabin Fever (a basic tune up) and The Wrecker (a major overhaul).&nbsp\;&nbsp\; Craig is an engineer and graduate of Barnett&#39\;s Bicycle Institute of Colorado Springs\, Colorado.<br />\n&nbsp\;<br />\nPlease join us on Friday\, April 4<sup>th</sup> at 3pm to help us celebrate this business success!<br />\n&nbsp\;<br />\n&nbsp\;<br />\n&nbsp\;
LOCATION:
UID:e.518.16656
SEQUENCE:3
DTSTAMP:20260425T102818Z
URL:https://business.nvcoc.com/events/details/ribbon-cutting-at-ck-bikes-04-04-2014-16656
END:VEVENT

END:VCALENDAR
