BEGIN:VCALENDAR
VERSION:2.0
PRODID:-//ChamberMaster//Event Calendar 2.0//EN
METHOD:PUBLISH
X-PUBLISHED-TTL:P3D
REFRESH-INTERVAL:P3D
CALSCALE:GREGORIAN
BEGIN:VEVENT
DTSTART;VALUE=DATE:20180120
DTEND;VALUE=DATE:20180121
TRANSP:TRANSPARENT
X-MICROSOFT-CDO-ALLDAYEVENT:TRUE
SUMMARY:* Restorative Yoga with Thai Massage
DESCRIPTION:Restorative Yoga with Thai Massage with Liz Wood\, LMT\, RYT200  \n\n \n\nThis Saturday\, Jan 20 @ 10:30 am   12:00 pm\n\n \n\nExplore new levels of relaxation as we layer Thai Yoga Massage techniques onto deeply calming Restorative Yoga poses. Indulge in this 90 minute workshop that includes fully supported\, healing yoga postures enhanced with passive stretches\, essential oils\, and the gentle pressure of Thai Yoga Massage. Relax and Release\; leave feeling Nurtured and Renewed!\n\n \n\nLiz Wood has been a licensed massage therapist for over 15 years and is a registered yoga instructor.\n\n \n\nCost: $30 - (This workshop is limited to 7 participants) [register]
X-ALT-DESC;FMTTYPE=text/html:<span style="color:#3661BD\;"><span style="font-family:arial\,sans-serif\;"><span style="font-size:9.0pt\;"><a href="http://r20.rs6.net/tn.jsp?f=001UTwa5Xrj3BcwlLd9slqL2jee4peCIfC4Kk8vWJQE1owveUm37k37-WjOFoqmemCixaPndPDyMd70flXEZidHwMh-cIW-jblBJg_qbt4cF6zwmsOS7IuFm8obEgVfd4DjQWoZLsantISw8pVX9-9HVLUeUax-izqWt9KdBil_iJSJhyFMaHooOylxE8gZ33iTztdiNG6KDJkZ2ocN-hJfQcw156YI-o3vKDdZg1RNOMtJxgVRhFN8pQ==&amp\;c=QBphHzR7YXK7fy8JKM7BM1XXFZKaNvYBRkkipjvEvsiIuGzlgxFQYw==&amp\;ch=mInr4ukc_flvcdS1grIRlBKJQmj_riLsem_PNMoN9B0CKE3mkfitMA==" target="_blank"><strong><span style="color:#789051\;"><span style="font-size:12.0pt\;">Restorative Yoga with Thai Massage</span></span></strong></a></span></span></span><strong><span style="color:#789051\;"><span style="font-family:arial\,sans-serif\;"> with Liz Wood\, LMT\, RYT200&nbsp\;</span></span></strong>&nbsp\;<br />\n&nbsp\;<br />\n<span style="color:#2A4C7D\;"><span style="font-family:arial\,sans-serif\;">This Saturday\, Jan 20 @ 10:30 am &ndash\; 12:00 pm</span></span><br />\n&nbsp\;<br />\n<span style="color:#789051\;"><span style="font-family:arial\,sans-serif\;">Explore new levels of relaxation as we layer Thai Yoga Massage techniques onto deeply calming Restorative Yoga poses. Indulge in this 90 minute workshop that includes fully supported\, healing yoga postures enhanced with passive stretches\, essential oils\, and the gentle pressure of Thai Yoga Massage. Relax and Release\; leave feeling Nurtured and Renewed!</span></span><br />\n&nbsp\;<br />\n<span style="color:#789051\;"><span style="font-family:arial\,sans-serif\;">Liz Wood has been a licensed massage therapist for over 15 years and is a registered yoga instructor.</span></span><br />\n&nbsp\;<br />\n<span style="color:#789051\;"><span style="font-family:arial\,sans-serif\;"><span style="font-size:12.0pt\;">Cost: $30 - (This workshop is limited to 7 participants) </span></span></span><span style="color:#3661BD\;"><span style="font-family:arial\,sans-serif\;"><span style="font-size:9.0pt\;"><a href="http://r20.rs6.net/tn.jsp?f=001UTwa5Xrj3BcwlLd9slqL2jee4peCIfC4Kk8vWJQE1owveUm37k37-WjOFoqmemCixaPndPDyMd70flXEZidHwMh-cIW-jblBJg_qbt4cF6zwmsOS7IuFm8obEgVfd4DjQWoZLsantISw8pVX9-9HVLUeUax-izqWt9KdBil_iJSJhyFMaHooOylxE8gZ33iTztdiNG6KDJkZ2ocN-hJfQcw156YI-o3vKDdZg1RNOMtJxgVRhFN8pQ==&amp\;c=QBphHzR7YXK7fy8JKM7BM1XXFZKaNvYBRkkipjvEvsiIuGzlgxFQYw==&amp\;ch=mInr4ukc_flvcdS1grIRlBKJQmj_riLsem_PNMoN9B0CKE3mkfitMA==" target="_blank"><strong><span style="color:#789051\;"><span style="font-size:12.0pt\;">[register]</span></span></strong></a></span></span></span>
LOCATION:
UID:e.518.32703
SEQUENCE:3
DTSTAMP:20260426T042508Z
URL:https://business.nvcoc.com/events/details/restorative-yoga-with-thai-massage-32703
END:VEVENT

END:VCALENDAR
