BEGIN:VCALENDAR
VERSION:2.0
PRODID:-//ChamberMaster//Event Calendar 2.0//EN
METHOD:PUBLISH
X-PUBLISHED-TTL:P3D
REFRESH-INTERVAL:P3D
CALSCALE:GREGORIAN
BEGIN:VEVENT
DTSTART:20180108T190000Z
DTEND:20180108T200000Z
X-MICROSOFT-CDO-ALLDAYEVENT:FALSE
SUMMARY:Restaurant & Hospitality Committee Roundtable - Jan 2018
DESCRIPTION:AGENDA\n\n\n\nSocial Media\; the challenges\, what works\, what doesn't\, and how to better utilize it to promote the business. \n\n \n\nCombating a bad review\; how to suppress bad PR\, how to respond\, new program reviews on Yelp Reservations.\n\n \n\nCommunity Involvement\; how to connect\, who to connect with\, and the right ways to network locally. \n\n \n\nMarketing/Branding\; how much is too much\, better ways to get the "word" out\, and different resources to make marketing the brand less of a financial hit.  Where to put your $$ for what audience.  Do you find paid marketing useful (print ads\, yelp business ads\, facebook ads\, Wedding Wire\, the Knot\, etc)?\n\n\n\nTax reform - highlights/downside?  \n\n\n\nRaising the minimum wage effective January to $12 - how is this going to affect your hiring and how are you dealing?
X-ALT-DESC;FMTTYPE=text/html:AGENDA<br />\n<br />\nSocial Media\; the challenges\, what works\, what&nbsp\;doesn&rsquo\;t\, and how to better utilize it to promote the business.&nbsp\;<br />\n&nbsp\;<br />\nCombating a bad review\; how to suppress bad PR\, how to respond\, new program reviews on Yelp Reservations.<br />\n&nbsp\;<br />\nCommunity Involvement\; how to connect\, who to connect with\, and the right ways to network locally.&nbsp\;<br />\n&nbsp\;<br />\nMarketing/Branding\; how much is too much\, better ways to get the &ldquo\;word&rdquo\; out\, and different resources to make marketing the brand less of a financial hit.&nbsp\; Where to put your $$ for what audience.&nbsp\; Do you find paid marketing useful (print ads\, yelp business ads\, facebook ads\, Wedding Wire\, the Knot\, etc)?<br />\n<br />\nTax reform - highlights/downside?&nbsp\;&nbsp\;<br />\n<br />\nRaising the minimum wage effective January to $12 - how is this going to affect your hiring and how are you dealing?
LOCATION:Nashoba Valley Chamber 2 Shaker Road\, Suite B200 Shirley
UID:e.518.32366
SEQUENCE:3
DTSTAMP:20260426T042630Z
URL:https://business.nvcoc.com/events/details/restaurant-hospitality-committee-roundtable-jan-2018-32366
END:VEVENT

END:VCALENDAR
