BEGIN:VCALENDAR
VERSION:2.0
PRODID:-//ChamberMaster//Event Calendar 2.0//EN
METHOD:PUBLISH
X-PUBLISHED-TTL:P3D
REFRESH-INTERVAL:P3D
CALSCALE:GREGORIAN
BEGIN:VEVENT
DTSTART;VALUE=DATE:20180120
DTEND;VALUE=DATE:20180121
TRANSP:TRANSPARENT
X-MICROSOFT-CDO-ALLDAYEVENT:TRUE
SUMMARY:* Repair Cafe'
DESCRIPTION:Repair Cafe' on January 20\n\nBolton Repair Caf  - Saturday\, January 20\, 2018\n\nWhat do you do with a broken toaster or lamp? Or with a shirt or blouse with a seam that is ripped out? Toss it? No way! Bring them to the Bolton Repair Caf . The Rotary Club of Nashoba Valley\, with help from Bolton Local\, is hosting the next Bolton Repair Caf  on Saturday\, Jan 20\, from 9 a.m. to 1 p.m. The event will be held in the cafeteria of the Florence Sawyer School\, 100 Mechanic Street in Bolton. The school is located behind the Emerson School\, which is on the same driveway/street.\n\nBring your items that need repair\, and knowledgeable volunteers will help you try to fix them for free. The volunteers can work on items such as clean mendable clothing\, lamps\, small appliances\, computers and other electronics\, bikes\, and toys. They can also sharpen knives\, scissors\, and garden tools. We cannot work on outdoor power equipment in the winter. You only pay for needed parts. If you know what parts are needed\, please get them ahead of time and bring them to the Repair Caf  to save time.\n\nWe will continue our activity for kids at this event. Bring your children or your grandchildren so they can work on taking something apart at the supervised take-apart table to see how it works. Putting things back together and fixing things is not expected.\n\nFor a calendar of upcoming repair events in Massachusetts\, go to this link:\n\nhttp://www.boltonlocal.org/initiatives/repair-cafe\n\nFor more information\, contact Ray Pfau at 978-779-5545 or ray.pfau@alum.mit.edu\, or visit www.nashobarotary.org.
X-ALT-DESC;FMTTYPE=text/html:<h2 align="center" style="text-align:center">Repair Cafe&#39\; on January 20<o:p></o:p></h2>\n\n<p style="line-height:18.0pt">Bolton Repair Caf&eacute\; - Saturday\, January 20\, 2018<o:p></o:p></p>\n\n<p style="line-height:18.0pt">What do you do with a broken toaster or lamp? Or with a shirt or blouse with a seam that is ripped out? Toss it? No way! Bring them to the Bolton Repair Caf&eacute\;. The Rotary Club of Nashoba Valley\, with help from Bolton Local\, is hosting the next Bolton Repair Caf&eacute\; on Saturday\, Jan 20\, from 9 a.m. to 1 p.m. The event will be held in the cafeteria of the Florence Sawyer School\, 100 Mechanic Street in Bolton. The school is located behind the Emerson School\, which is on the same driveway/street.<o:p></o:p></p>\n\n<p style="line-height:18.0pt">Bring your items that need repair\, and knowledgeable volunteers will help you try to fix them for free. The volunteers can work on items such as clean mendable clothing\, lamps\, small appliances\, computers and other electronics\, bikes\, and toys. They can also sharpen knives\, scissors\, and garden tools. We cannot work on outdoor power equipment in the winter. You only pay for needed parts. If you know what parts are needed\, please get them ahead of time and bring them to the Repair Caf&eacute\; to save time.<o:p></o:p></p>\n\n<p style="line-height:18.0pt">We will continue our activity for kids at this event. Bring your children or your grandchildren so they can work on taking something apart at the supervised take-apart table to see how it works.&nbsp\;Putting things back together and fixing things is not expected.<o:p></o:p></p>\n\n<p style="line-height:18.0pt">For a calendar of upcoming repair events in Massachusetts\, go to this link:<o:p></o:p></p>\n\n<p style="line-height:18.0pt"><a href="http://www.boltonlocal.org/initiatives/repair-cafe">http://www.boltonlocal.org/initiatives/repair-cafe</a><o:p></o:p></p>\n\n<p style="line-height:18.0pt">For more information\, contact Ray Pfau at&nbsp\;978-779-5545&nbsp\;or&nbsp\;<a href="mailto:ray.pfau@alum.mit.edu">ray.pfau@alum.mit.edu</a>\, or visit&nbsp\;<a href="http://www.nashobarotary.org">www.nashobarotary.org</a>.<o:p></o:p></p>\n
LOCATION:
UID:e.518.32659
SEQUENCE:3
DTSTAMP:20260426T041952Z
URL:https://business.nvcoc.com/events/details/repair-cafe-32659
END:VEVENT

END:VCALENDAR
