BEGIN:VCALENDAR
VERSION:2.0
PRODID:-//ChamberMaster//Event Calendar 2.0//EN
METHOD:PUBLISH
X-PUBLISHED-TTL:P3D
REFRESH-INTERVAL:P3D
CALSCALE:GREGORIAN
BEGIN:VEVENT
DTSTART;VALUE=DATE:20180119
DTEND;VALUE=DATE:20180120
TRANSP:TRANSPARENT
X-MICROSOFT-CDO-ALLDAYEVENT:TRUE
SUMMARY:* Reiki Share For Practitioners with Sue Ginouves
DESCRIPTION:Reiki Share For Practitioners with Sue Ginouves\n\n \n\n Tomorrow\, Friday - Jan 19 @ 10:30am   12:30\n\n \n\nThe morning will begin with a meditation time and then a topic for group discussion and reiki sharing. We are looking forward to meeting new friends of like minds to share all forms of the Tsui Reiki lineage. All levels of Reiki Healing are welcome\; 1\, 2 and 3. All Karuna and Holy Fire healers are also welcome.\n\n \n\nCost: $10 - [register]
X-ALT-DESC;FMTTYPE=text/html:<span style="color:#3661BD\;"><span style="font-family:arial\,sans-serif\;"><span style="font-size:9.0pt\;"><a href="http://r20.rs6.net/tn.jsp?f=001UTwa5Xrj3BcwlLd9slqL2jee4peCIfC4Kk8vWJQE1owveUm37k37-djyOG7_lGQkTRf3L4Pth1mBUxJdmxRL6d_46sEVCV9jje2aWLhDaZNsbwtvm861lf-hEQRNeejnsUQB3GRL-VTGtGSink5WqxmdCbbDwJlKOwFwMYpuM8j4dmh6wB_wcLPj61-huCFg_yp7oNRwlBUF-MqIXBFtiA==&amp\;c=QBphHzR7YXK7fy8JKM7BM1XXFZKaNvYBRkkipjvEvsiIuGzlgxFQYw==&amp\;ch=mInr4ukc_flvcdS1grIRlBKJQmj_riLsem_PNMoN9B0CKE3mkfitMA==" target="_blank"><strong><span style="color:#789051\;"><span style="font-size:12.0pt\;">Reiki Share For Practitioners with Sue Ginouves</span></span></strong></a></span></span></span><br />\n&nbsp\;<br />\n&#65279\;<span style="color:#2A4C7D\;"><span style="font-family:arial\,sans-serif\;">Tomorrow\, Friday - Jan 19 @ 10:30am &ndash\; 12:30</span></span><br />\n&nbsp\;<br />\n<span style="color:#789051\;"><span style="font-family:arial\,sans-serif\;">The morning will begin with a meditation time and then a topic for group discussion and reiki sharing. We are looking forward to meeting new friends of like minds to share all forms of the Tsui Reiki lineage. All levels of Reiki Healing are welcome\; 1\, 2 and 3. All Karuna and Holy Fire healers are also welcome.</span></span><br />\n&nbsp\;<br />\n<strong><span style="color:#789051\;"><span style="font-family:arial\,sans-serif\;"><span style="font-size:12.0pt\;">Cost: $10 - </span></span></span></strong><span style="color:#3661BD\;"><span style="font-family:arial\,sans-serif\;"><span style="font-size:9.0pt\;"><a href="http://r20.rs6.net/tn.jsp?f=001UTwa5Xrj3BcwlLd9slqL2jee4peCIfC4Kk8vWJQE1owveUm37k37-djyOG7_lGQkTRf3L4Pth1mBUxJdmxRL6d_46sEVCV9jje2aWLhDaZNsbwtvm861lf-hEQRNeejnsUQB3GRL-VTGtGSink5WqxmdCbbDwJlKOwFwMYpuM8j4dmh6wB_wcLPj61-huCFg_yp7oNRwlBUF-MqIXBFtiA==&amp\;c=QBphHzR7YXK7fy8JKM7BM1XXFZKaNvYBRkkipjvEvsiIuGzlgxFQYw==&amp\;ch=mInr4ukc_flvcdS1grIRlBKJQmj_riLsem_PNMoN9B0CKE3mkfitMA==" target="_blank"><strong><span style="color:#789051\;"><span style="font-size:12.0pt\;">[register]</span></span></strong></a></span></span></span>
LOCATION:
UID:e.518.32701
SEQUENCE:3
DTSTAMP:20260426T042502Z
URL:https://business.nvcoc.com/events/details/reiki-share-for-practitioners-with-sue-ginouves-32701
END:VEVENT

END:VCALENDAR
