BEGIN:VCALENDAR
VERSION:2.0
PRODID:-//ChamberMaster//Event Calendar 2.0//EN
METHOD:PUBLISH
X-PUBLISHED-TTL:P3D
REFRESH-INTERVAL:P3D
CALSCALE:GREGORIAN
BEGIN:VEVENT
DTSTART;VALUE=DATE:20180126
DTEND;VALUE=DATE:20180127
TRANSP:TRANSPARENT
X-MICROSOFT-CDO-ALLDAYEVENT:TRUE
SUMMARY:REGIONAL ECONOMIC DEVELOPMENT FORUM
DESCRIPTION:Representative Jennifer Benson\n\ninvites you to a\n\nRegional Economic Development Forum\n\n \n\nFriday\, January 26\, 2018 - 1:30 to 3:30 pm\n\nThe Bull Run Restaurant\n\n215 Great Road - Shirley\, MA \n\n \n\nSpeaking guests include:\n\nSpeaker Robert A. DeLeo\n\nSpeaker of the Massachusetts House of Representatives\n\n \n\nSecretary Jay Ash\n\nSecretary of Housing and Economic Development\n\n \n\nCommissioner Jennifer Flanagan\n\nCannabis Control Commission\n\n \n\nLight refreshments will be served\n\n \n\nTo RSVP\, please contact my District Director\, Joshua Bedarian\,\n\nat 978-582-4146 x4 or joshua.bedarian@mahouse.gov
X-ALT-DESC;FMTTYPE=text/html:<strong><span style="font-variant-numeric:normal\;font-variant-east-asian:normal\;font-variant-caps:small-caps\;"><span style="font-family:garamond\,serif\;"><span style="font-size:22pt\;">Representative Jennifer Benson</span></span></span></strong><br />\n<span style="font-family:garamond\,serif\;"><span style="font-size:18.0pt\;">invites you to a</span></span><br />\n<strong><span style="font-variant-numeric:normal\;font-variant-east-asian:normal\;font-variant-caps:small-caps\;"><span style="font-family:garamond\,serif\;"><span style="font-size:22pt\;">Regional Economic Development Forum</span></span></span></strong><br />\n<span style="font-variant-numeric:normal\;font-variant-east-asian:normal\;font-variant-caps:small-caps\;"><span style="font-family:garamond\,serif\;"><span style="font-size:18pt\;">&bull\;</span></span></span><br />\n<span style="font-family:garamond\,serif\;"><span style="font-size:18.0pt\;">Friday\, January 26\, 2018 - 1:30 <sup><span style="position:relative\;top:4.0pt\;">to</span></sup>&nbsp\;3:30 pm</span></span><br />\n<span style="font-family:garamond\,serif\;"><span style="font-size:18.0pt\;">The Bull Run Restaurant</span></span><br />\n<span style="font-family:garamond\,serif\;"><span style="font-size:18.0pt\;">215 Great Road - Shirley\, MA&nbsp\;</span></span><br />\n<span style="font-variant-numeric:normal\;font-variant-east-asian:normal\;font-variant-caps:small-caps\;"><span style="font-family:garamond\,serif\;"><span style="font-size:18pt\;">&bull\;</span></span></span><br />\n<span style="font-family:garamond\,serif\;"><span style="font-size:18.0pt\;">Speaking guests include:</span></span><br />\n<strong><span style="font-variant-numeric:normal\;font-variant-east-asian:normal\;font-variant-caps:small-caps\;"><span style="font-family:garamond\,serif\;"><span style="font-size:18pt\;">Speaker Robert A. DeLeo</span></span></span></strong><br />\n<em><span style="font-family:garamond\,serif\;"><span style="font-size:18.0pt\;">Speaker of the Massachusetts House of Representatives</span></span></em><br />\n&nbsp\;<br />\n<strong><span style="font-variant-numeric:normal\;font-variant-east-asian:normal\;font-variant-caps:small-caps\;"><span style="font-family:garamond\,serif\;"><span style="font-size:18pt\;">Secretary Jay Ash</span></span></span></strong><br />\n<em><span style="font-family:garamond\,serif\;"><span style="font-size:18.0pt\;">Secretary of Housing and Economic Development</span></span></em><br />\n&nbsp\;<br />\n<strong><span style="font-variant-numeric:normal\;font-variant-east-asian:normal\;font-variant-caps:small-caps\;"><span style="font-family:garamond\,serif\;"><span style="font-size:18pt\;">Commissioner Jennifer Flanagan</span></span></span></strong><br />\n<em><span style="font-family:garamond\,serif\;"><span style="font-size:18.0pt\;">Cannabis Control Commission</span></span></em><br />\n<span style="font-variant-numeric:normal\;font-variant-east-asian:normal\;font-variant-caps:small-caps\;"><span style="font-family:garamond\,serif\;"><span style="font-size:18pt\;">&bull\;</span></span></span><br />\n<span style="font-family:garamond\,serif\;"><span style="font-size:18.0pt\;">Light refreshments will be served</span></span><br />\n&nbsp\;<br />\n<span style="font-family:garamond\,serif\;"><span style="font-size:18.0pt\;">To RSVP\, please contact my District Director\, Joshua Bedarian\,</span></span><br />\n<span style="font-family:garamond\,serif\;"><span style="font-size:18.0pt\;">at <span style="font-variant-numeric:normal\;font-variant-east-asian:normal\;font-variant-caps:small-caps\;">978-582-4146 x4 or </span></span></span><span style="font-size:18.0pt\;"><a href="https://webmail.mahouse.gov/OWA/redir.aspx?C=JzzDPF3YLEh_WqfTygwG-exS_B3Zzcp09iaFHxfue9YbfvuD8lHVCA..&amp\;URL=mailto%3ajoshua.bedarian%40mahouse.gov" target="_blank"><span style="font-variant-numeric:normal\;font-variant-east-asian:normal\;font-variant-caps:small-caps\;"><span style="font-family:garamond\,serif\;">joshua.bedarian@mahouse.gov</span></span></a></span>
LOCATION:
UID:e.518.32668
SEQUENCE:3
DTSTAMP:20260426T041901Z
URL:https://business.nvcoc.com/events/details/regional-economic-development-forum-32668
END:VEVENT

END:VCALENDAR
