BEGIN:VCALENDAR
VERSION:2.0
PRODID:-//ChamberMaster//Event Calendar 2.0//EN
METHOD:PUBLISH
X-PUBLISHED-TTL:P3D
REFRESH-INTERVAL:P3D
CALSCALE:GREGORIAN
BEGIN:VEVENT
DTSTART:20180111T140000Z
DTEND:20180111T153000Z
X-MICROSOFT-CDO-ALLDAYEVENT:FALSE
SUMMARY:Real Estate Professionals Roundtable - January 2018
DESCRIPTION:The Nashoba Valley Chamber's Roundtable series provide members the opportunity for meaningful peer-to-peer discussion while driving results for member business.  \n\n\n\n\n\nFuture meeting dates:  \n\nWednesday\, February 14 @ 9am
X-ALT-DESC;FMTTYPE=text/html:<br />\nThe Nashoba Valley Chamber&rsquo\;s Roundtable series provide members the opportunity for meaningful peer-to-peer discussion while driving results for member business.&nbsp\;&nbsp\;<br />\n<br />\n<br />\nFuture meeting dates:&nbsp\;&nbsp\;<br />\nWednesday\, February 14 @ 9am<br />\n<br />\n<br />\n<br />\n&nbsp\;
LOCATION:Nashoba Valley Chamber of Commerce 2 Shaker Road\, Suite B200 Shirley Directions
UID:e.518.32341
SEQUENCE:3
DTSTAMP:20260426T042548Z
URL:https://business.nvcoc.com/events/details/real-estate-professionals-roundtable-january-2018-32341
END:VEVENT

END:VCALENDAR
