BEGIN:VCALENDAR
VERSION:2.0
PRODID:-//ChamberMaster//Event Calendar 2.0//EN
METHOD:PUBLISH
X-PUBLISHED-TTL:P3D
REFRESH-INTERVAL:P3D
CALSCALE:GREGORIAN
BEGIN:VEVENT
DTSTART:20160503T113000Z
DTEND:20160503T130000Z
X-MICROSOFT-CDO-ALLDAYEVENT:FALSE
SUMMARY:Public Policy Energy Forum with guest Hydro Quebec
DESCRIPTION:NVCoC Public Policy Energy Forum\n\nwith guest speaker Hydro Quebec\, Carolyn O'Connor\n\nand welcome remarks from Canadian Consul General\, David Alward\n\n\n\nSeries Sponsored by Mt. Wachusett Community College\n\n\n\n\n\n\n\nThis is a great opportunity to learn more about Hydro Quebec and what hydro energy means to the region.
X-ALT-DESC;FMTTYPE=text/html:NVCoC Public Policy&nbsp\;Energy Forum<br />\nwith guest speaker&nbsp\;Hydro Quebec\, Carolyn O&#39\;Connor<br />\nand welcome remarks from Canadian Consul General\, David Alward<br />\n<br />\nSeries Sponsored by Mt. Wachusett Community College<br />\n<br />\n<br />\n<br />\nThis is a great opportunity to learn more about Hydro Quebec and what hydro energy means to the region.
LOCATION:Hilton Garden Inn 59 Andrews Parkway Devens
UID:e.518.26504
SEQUENCE:3
DTSTAMP:20260425T190915Z
URL:https://business.nvcoc.com/events/details/public-policy-energy-forum-with-guest-hydro-quebec-05-03-2016-26504
END:VEVENT

END:VCALENDAR
