BEGIN:VCALENDAR
VERSION:2.0
PRODID:-//ChamberMaster//Event Calendar 2.0//EN
METHOD:PUBLISH
X-PUBLISHED-TTL:P3D
REFRESH-INTERVAL:P3D
CALSCALE:GREGORIAN
BEGIN:VEVENT
DTSTART;VALUE=DATE:20140401
DTEND;VALUE=DATE:20140402
TRANSP:TRANSPARENT
X-MICROSOFT-CDO-ALLDAYEVENT:TRUE
SUMMARY:Public Policy Committee Meeting - 04/01/2014
DESCRIPTION:Our Public Policy Committee will continue to their monthly meetings on Tuesday\, April 1st at 8am at Chamber's office in Devens.  We will be joined by Karyn Polito\, candidate for Lieutenant Governor.  Our committee meetings are great opportunities to converse one-on-one with political leaders and learn about issues on Beacon Hill affecting your business.  Meetings are held the 1st Tuesday of each month - Chamber Members are invited to join - RSVP to Melissa@nvcoc.com
X-ALT-DESC;FMTTYPE=text/html:<br />\n<br />\n<span style="color:black\;">Our Public Policy Committee will continue to their monthly meetings on Tuesday\, April 1st&nbsp\;at 8am at Chamber&#39\;s office in Devens.&nbsp\; We will be joined by Karyn Polito\, candidate for Lieutenant Governor.&nbsp\; Our committee meetings are great opportunities to converse one-on-one with political leaders and learn about issues on Beacon Hill affecting your business.&nbsp\; Meetings are held the 1st&nbsp\;Tuesday of each month - Chamber Members are invited to join - RSVP to&nbsp\;<a href="mailto:Melissa@nvcoc.com" shape="rect" target="_blank">Melissa@nvcoc.com</a></span><br />\n&nbsp\;
LOCATION:
UID:e.518.16663
SEQUENCE:3
DTSTAMP:20260425T102914Z
URL:https://business.nvcoc.com/events/details/public-policy-committee-meeting-04-01-2014-04-01-2014-16663
END:VEVENT

END:VCALENDAR
