BEGIN:VCALENDAR
VERSION:2.0
PRODID:-//ChamberMaster//Event Calendar 2.0//EN
METHOD:PUBLISH
X-PUBLISHED-TTL:P3D
REFRESH-INTERVAL:P3D
CALSCALE:GREGORIAN
BEGIN:VEVENT
DTSTART;VALUE=DATE:20140204
DTEND;VALUE=DATE:20140205
TRANSP:TRANSPARENT
X-MICROSOFT-CDO-ALLDAYEVENT:TRUE
SUMMARY:Public Policy Committee Meeting - 02/04/2014
DESCRIPTION:Please join us at our February 4th Public Policy Committee Meeting\n\n \n\nBig changes will come to Beacon Hill in 2014.  Among other offices\, voters this year will elect a new state treasurer\, an office responsible for state investments and the Mass Lottery.  State Sen. Barry Finegold of Andover wants the job and will tell the Public Policy Committee why he thinks he can be victorious.\n\n\n\nPlease let the Chamber office know if you are able to join us on Tuesday\, February 4th at 8am!
X-ALT-DESC;FMTTYPE=text/html:<strong><span style="font-size:14px\;"><span style="font-family:arial\;">Please join us at our February 4th Public Policy Committee Meeting<br />\n&nbsp\;</span></span></strong><br />\n<span style="font-size:14px\;"><span style="font-family:arial\;"><span style="color:black\;">Big changes will come to Beacon Hill in 2014.&nbsp\; Among other offices\, voters this year will elect a new state treasurer\, an office responsible for state investments and the Mass Lottery.&nbsp\; State Sen. Barry Finegold of Andover wants the job and will tell the Public Policy Committee why he thinks he can be victorious.<br />\n<br />\nPlease let the Chamber office know if you are able to join us on Tuesday\, February 4th at 8am! &nbsp\;</span></span></span><br />\n<br />\n<br />\n<br />\n<br />\n
LOCATION:Nashoba Valley Chamber of Commerce 100 Sherman Ave. Devens MA 01434
UID:e.518.15578
SEQUENCE:3
DTSTAMP:20260425T155301Z
URL:https://business.nvcoc.com/events/details/public-policy-committee-meeting-02-04-2014-02-04-2014-15578
END:VEVENT

END:VCALENDAR
