BEGIN:VCALENDAR
VERSION:2.0
PRODID:-//ChamberMaster//Event Calendar 2.0//EN
METHOD:PUBLISH
X-PUBLISHED-TTL:P3D
REFRESH-INTERVAL:P3D
CALSCALE:GREGORIAN
BEGIN:VEVENT
DTSTART;VALUE=DATE:20140107
DTEND;VALUE=DATE:20140108
TRANSP:TRANSPARENT
X-MICROSOFT-CDO-ALLDAYEVENT:TRUE
SUMMARY:Public Policy Committee Meeting - 01/07/2014
DESCRIPTION:Please join us at our January 7th Public Policy Committee Meeting\n\n \n\nIn addition to our monthly "Beacon Hill Update"\, we'll be joined by Don Berwick\, candidate for Massachusetts Governor at 8am and by Mark Thompson of the Cordish Companies (proposed slots parlor in Leominster) at 8:30am.  \n\n \n\n \n\nAbout our guest speaker Don Berwick: \n\nInformation at http://www.berwickforgovernor.com
X-ALT-DESC;FMTTYPE=text/html:<strong>Please join us at our January 7th Public Policy Committee Meeting</strong><br />\n&nbsp\;<br />\nIn addition to our monthly &ldquo\;Beacon Hill Update&rdquo\;\, we&rsquo\;ll be joined by Don Berwick\, candidate for Massachusetts Governor at 8am and by Mark Thompson of the Cordish&nbsp\;Companies (proposed slots parlor in Leominster) at 8:30am. &nbsp\;<br />\n&nbsp\;<br />\n&nbsp\;<br />\n<strong>About our guest speaker Don Berwick: </strong><br />\nInformation at <a href="http://www.berwickforgovernor.com/">http://www.berwickforgovernor.com</a><br />\n<br />\n<br />\n<br />\n<br />\n
LOCATION:Nashoba Valley Chamber of Commerce 100 Sherman Ave Devens MA 01434
UID:e.518.15782
SEQUENCE:3
DTSTAMP:20260425T200722Z
URL:https://business.nvcoc.com/events/details/public-policy-committee-meeting-01-07-2014-01-07-2014-15782
END:VEVENT

END:VCALENDAR
