BEGIN:VCALENDAR
VERSION:2.0
PRODID:-//ChamberMaster//Event Calendar 2.0//EN
METHOD:PUBLISH
X-PUBLISHED-TTL:P3D
REFRESH-INTERVAL:P3D
CALSCALE:GREGORIAN
BEGIN:VEVENT
DTSTART:20141009T210000Z
DTEND:20141010T000000Z
X-MICROSOFT-CDO-ALLDAYEVENT:FALSE
SUMMARY:POSTPONED Ribbon Cutting at From the Heart of Ayer
DESCRIPTION:10/8/14 - Event postponed - More information to follow\n\n\n\n\n\n\n\nRIBBON CUTTING TO CELEBRATE GRAND OPENING OF FROM THE HEART OF AYER\n\n \n\nJoin the Nashoba Valley Chamber of Commerce (NVCoC) on Thursday\, October 9\, 2014 at 5:00pm for a Ribbon Cutting at From the Heart of Ayer at 61 Main Street\, Ayer.  The celebration will kick off with a Ribbon Cutting and will include light refreshments.  \n\n \n\nWith the Kelley's blessing\, Valeri Delcore and family now own and operate the former Kelley's Hallmark under the new business name of "From the Heart of Ayer".  The surname Delcore translates to "from the heart" in Italian   which is a perfect fit for the feel of the store! \n\n \n\nFrom the Heart of Ayer will continue to carry Hallmark\, Yankee Candle\, and Willow Tree\, while expanding their product line to include locally made goods and home d cor.  \n\n \n\nJoin us on Thursday\, October 9th to celebrate the newly renovated From the Heart of Ayer and help us welcome Valeri and her team to the Ayer community.  The store will be open until8pm.  Light refreshments and surprise giveaways throughout the evening.
X-ALT-DESC;FMTTYPE=text/html:<strong><span style="font-size:18px\;"><span style="color:#FF0000\;">10/8/14 - Event postponed - More information to follow</span></span><br />\n<br />\n<br />\n<br />\nRIBBON CUTTING TO CELEBRATE GRAND OPENING OF FROM THE HEART OF AYER</strong><br />\n&nbsp\;<br />\n<span style="font-size:11.0pt\;">Join the Nashoba Valley Chamber of Commerce (NVCoC) on Thursday\, October 9\, 2014 at 5:00pm for a Ribbon Cutting at </span><span style="font-size:11.0pt\;">From the Heart of Ayer at 61 Main Street\, Ayer.&nbsp\; The celebration will kick off with a Ribbon Cutting and will include light refreshments.&nbsp\; </span><br />\n&nbsp\;<br />\n<span style="font-size:11.0pt\;">With the Kelley&rsquo\;s blessing\, Valeri Delcore and family now own and operate the former Kelley&rsquo\;s Hallmark under the new business name of &ldquo\;From the Heart of Ayer&rdquo\;.&nbsp\; The surname Delcore translates to &ldquo\;from the heart&rdquo\; in Italian &ndash\; which is a perfect fit for the feel of the store! </span><br />\n&nbsp\;<br />\n<span style="font-size:11.0pt\;">From the Heart of Ayer will continue to carry Hallmark\, Yankee Candle\, and Willow Tree\, while expanding their product line to include locally made goods and home d&eacute\;cor.&nbsp\; </span><br />\n&nbsp\;<br />\n<span style="font-size:11.0pt\;">Join us on Thursday\, October 9<sup>th</sup> to celebrate the newly renovated From the Heart of Ayer and help us welcome Valeri and her team to the Ayer community.&nbsp\; The store will be open until8pm.&nbsp\; Light refreshments and surprise giveaways throughout the evening.&nbsp\; </span><br />\n&nbsp\;<br />\n&nbsp\;
LOCATION:From the Heart of Ayer 61 Main Street Ayer MA
UID:e.518.18099
SEQUENCE:3
DTSTAMP:20260424T232951Z
URL:https://business.nvcoc.com/events/details/postponed-ribbon-cutting-at-from-the-heart-of-ayer-10-09-2014-18099
END:VEVENT

END:VCALENDAR
