BEGIN:VCALENDAR
VERSION:2.0
PRODID:-//ChamberMaster//Event Calendar 2.0//EN
METHOD:PUBLISH
X-PUBLISHED-TTL:P3D
REFRESH-INTERVAL:P3D
CALSCALE:GREGORIAN
BEGIN:VEVENT
DTSTART:20131107T220000Z
DTEND:20131108T000000Z
X-MICROSOFT-CDO-ALLDAYEVENT:FALSE
SUMMARY:Open House at Bliss Bakery
DESCRIPTION:Thursday\, November 7th\, from 5-7 an open house and wine tasting at Bliss Bakery! They will have samples of  Thanksgiving desserts\, savory items and 6 great wines.
X-ALT-DESC;FMTTYPE=text/html:Thursday\, November 7th\, from 5-7 an open house and wine tasting at Bliss Bakery! They will have samples of &nbsp\;Thanksgiving desserts\, savory items and 6 great wines.<br />\n<br />\n<br />\n
LOCATION:134 Main Street\, Unit 1B Groton MA
UID:e.518.15260
SEQUENCE:3
DTSTAMP:20260426T035450Z
URL:https://business.nvcoc.com/events/details/open-house-at-bliss-bakery-11-07-2013-15260
END:VEVENT

END:VCALENDAR
