BEGIN:VCALENDAR
VERSION:2.0
PRODID:-//ChamberMaster//Event Calendar 2.0//EN
METHOD:PUBLISH
X-PUBLISHED-TTL:P3D
REFRESH-INTERVAL:P3D
CALSCALE:GREGORIAN
BEGIN:VEVENT
DTSTART:20180116T140000Z
DTEND:20180116T153000Z
X-MICROSOFT-CDO-ALLDAYEVENT:FALSE
SUMMARY:Nashoba Valley Town Administrators Working Group - January 2018
DESCRIPTION:Agenda to follow\n\n\n\nNOTE - meeting moved to Chamber
X-ALT-DESC;FMTTYPE=text/html:<br />\nAgenda to follow<br />\n<br />\nNOTE - meeting moved to Chamber&nbsp\;
LOCATION:NEW LOCATION FOR THIS MEETING: NVCoC 2 Shaker Road\, Shirley
UID:e.518.32649
SEQUENCE:3
DTSTAMP:20260426T042507Z
URL:https://business.nvcoc.com/events/details/nashoba-valley-town-administrators-working-group-january-2018-32649
END:VEVENT

END:VCALENDAR
