BEGIN:VCALENDAR
VERSION:2.0
PRODID:-//ChamberMaster//Event Calendar 2.0//EN
METHOD:PUBLISH
X-PUBLISHED-TTL:P3D
REFRESH-INTERVAL:P3D
CALSCALE:GREGORIAN
BEGIN:VEVENT
DTSTART:20131126T190000Z
DTEND:20131126T210000Z
X-MICROSOFT-CDO-ALLDAYEVENT:FALSE
SUMMARY:Nashoba Valley Job Seekers - 11/26/2013
DESCRIPTION:The purpose of the Nashoba Valley Job Seekers Group is to provide leads\, ideas\, search strategies and encouragement for area job-seekers through face-to-face meetings and e-mail conversations.\n\n	 \n\n	\n\n	Office Your Job Search!\n\n	Please join the Nashoba Valley Job Seekers Group on Tuesday\, November 26\, 2013 from 2 to 4PM\; our guest speaker will be John Perkins\, Business Development Training Professional \n\n	"One of the most challenging parts of job searching is getting and staying organized."  \n\n	On a daily basis\, you need to have the following at your fingertips: \n\n	1) Correctly formatted resumes and cover letters \n\n	2) A presentation that demonstrates your talents and experiences and exceeds expectations \n\n	3) Several powerful success stories \n\n	4) Tracking appointments\, mileages\, meeting/seminar costs (if any)\, coffee/lunch\, etc. expenses for job search tax deductions.\n\n	To accomplish this he discovered ways\, which he now uses as a job seeker\, on how to use MS Word\, Excel\, and PowerPoint to organize\, follow through\, and "make the sale\," that is\, help you sell yourself to an employer.\n\n	 Learn the insider secrets of becoming\, as John says\, "the candidate with the chemistry" who lands the job! \n\n	--------------------------------------------------------------------------- \n\n	About the Presenter:  John Perkins\, sales professional\, completed several decades of sales/product training contributions at the $11.7B Thermo Fisher Scientific Company. \n\n	Most recently as Sales Training Manager for North America\, he supported the $750M plus Laboratory Equipment Division. \n\n	Recently\, John has worked with professionals in transition\, by facilitating Job Search Work Groups\, and by presenting "Speak for Yourself" workshops:\n\n	How to use public speaking and selling yourself techniques during the job interview and "Office Your Job Search\," the one you will experienced at our last meeting.\n\n	 BE SURE to attend this meeting of NVJS!
X-ALT-DESC;FMTTYPE=text/html:<p align="CENTER" dir="LTR">\n	<font face="Times New Roman" size="3"><font face="Times New Roman" size="3"><i><span style="font-size: 14pt\;"><span style="font-family: times new roman\,serif\;"><span style="color: rgb(34\, 34\, 34)\;">The purpose of the Nashoba Valley Job Seekers Group is to provide leads\, ideas\, search strategies and encouragement for area job-seekers through face-to-face meetings and e-mail conversations.</span></span></span><br />\n	&nbsp\;</i></font></font><br />\n	<br />\n	<u><span style="color:blue\;"><span style="font-family:arial\,sans-serif\;"><span style="font-size:18.0pt\;">Office Your Job Search!</span></span></span></u><br />\n	<span style="font-family:arial\,sans-serif\;"><span style="font-size:14.0pt\;">Please join the Nashoba Valley Job Seekers Group on Tuesday\, November 26\, 2013 from 2 to 4PM\; our guest speaker will be John Perkins\, Business Development Training Professional </span></span><br />\n	<span style="font-family:arial\,sans-serif\;"><span style="font-size:14.0pt\;">&quot\;One of the most challenging parts of job searching is getting and staying organized.&rdquo\; &nbsp\;</span></span><br />\n	<span style="font-family:arial\,sans-serif\;"><span style="font-size:14.0pt\;">On a daily basis\, you need to have the following at your fingertips: </span></span><br />\n	<span style="font-family:arial\,sans-serif\;"><span style="font-size:14.0pt\;">1) Correctly formatted resumes and cover letters </span></span><br />\n	<span style="font-family:arial\,sans-serif\;"><span style="font-size:14.0pt\;">2) A presentation that demonstrates your talents and experiences and exceeds expectations </span></span><br />\n	<span style="font-family:arial\,sans-serif\;"><span style="font-size:14.0pt\;">3) Several powerful success stories </span></span><br />\n	<span style="font-family:arial\,sans-serif\;"><span style="font-size:14.0pt\;">4) Tracking appointments\, mileages\, meeting/seminar costs (if any)\, coffee/lunch\, etc. expenses for job search tax deductions.</span></span><br />\n	<span style="font-family:arial\,sans-serif\;"><span style="font-size:14.0pt\;">To accomplish this he discovered ways\, which he now uses as a job seeker\, on how to use MS Word\, Excel\, and PowerPoint to organize\, follow through\, and &quot\;make the sale\,&rdquo\; that is\, help you sell yourself to an employer.</span></span><br />\n	<span style="font-family:arial\,sans-serif\;"><span style="font-size:14.0pt\;">&nbsp\;Learn the insider secrets of becoming\, as John says\, &quot\;the candidate with the chemistry&quot\; who lands the job! </span></span><br />\n	<span style="font-family:arial\,sans-serif\;"><span style="font-size:14.0pt\;">--------------------------------------------------------------------------- </span></span><br />\n	<strong><span style="font-family:arial\,sans-serif\;"><span style="font-size:14.0pt\;">About the Presenter:&nbsp\; John Perkins</span></span></strong><span style="font-family:arial\,sans-serif\;"><span style="font-size:14.0pt\;">\, sales professional\, completed several decades of sales/product training contributions at the $11.7B Thermo Fisher Scientific Company. </span></span><br />\n	<span style="font-family:arial\,sans-serif\;"><span style="font-size:14.0pt\;">Most recently as Sales Training Manager for North America\, he supported the $750M plus Laboratory Equipment Division. </span></span><br />\n	<span style="font-family:arial\,sans-serif\;"><span style="font-size:14.0pt\;">Recently\, John has worked with professionals in transition\, by facilitating Job Search Work Groups\, and by presenting &quot\;Speak for Yourself&quot\; workshops:</span></span><br />\n	<span style="font-family:arial\,sans-serif\;"><span style="font-size:14.0pt\;">How to use public speaking and selling yourself techniques during the job interview and &ldquo\;Office Your Job Search\,&rdquo\; the one you will experienced at our last meeting.</span></span><br />\n	<span style="font-family:arial\,sans-serif\;"><span style="font-size:14.0pt\;">&nbsp\;BE SURE to attend this meeting of NVJS!</span></span></p>\n
LOCATION:Nashoba Valley Chamber of Commerce 100 Sherman Ave.\, Devens
UID:e.518.15256
SEQUENCE:3
DTSTAMP:20260426T035224Z
URL:https://business.nvcoc.com/events/details/nashoba-valley-job-seekers-11-26-2013-11-26-2013-15256
END:VEVENT

END:VCALENDAR
