BEGIN:VCALENDAR
VERSION:2.0
PRODID:-//ChamberMaster//Event Calendar 2.0//EN
METHOD:PUBLISH
X-PUBLISHED-TTL:P3D
REFRESH-INTERVAL:P3D
CALSCALE:GREGORIAN
BEGIN:VEVENT
DTSTART:20140128T190000Z
DTEND:20140128T210000Z
X-MICROSOFT-CDO-ALLDAYEVENT:FALSE
SUMMARY:Nashoba Valley Job Seekers - 01/28/2014
DESCRIPTION:The purpose of the Nashoba Valley Job Seekers Group is to provide leads\, ideas\, search strategies and encouragement for area job-seekers through face-to-face meetings and e-mail conversations.\n\n	 \n\n	\n\n	Our Guest Speaker will be..... TBA
X-ALT-DESC;FMTTYPE=text/html:<p align="CENTER" dir="LTR">\n	<font face="Times New Roman" size="3"><font face="Times New Roman" size="3"><i><span style="font-size: 14pt\;"><span style="font-family: times new roman\,serif\;"><span style="color: rgb(34\, 34\, 34)\;">The purpose of the Nashoba Valley Job Seekers Group is to provide leads\, ideas\, search strategies and encouragement for area job-seekers through face-to-face meetings and e-mail conversations.</span></span></span><br />\n	&nbsp\;</i></font></font><br />\n	<br />\n	<span style="color:#ff0000\;"><span style="font-size:14px\;">Our Guest Speaker will be..... TBA</span></span><br />\n	<br />\n	&nbsp\;</p>\n
LOCATION:Nashoba Valley Chamber of Commerce 100 Sherman Ave.\, Devens
UID:e.518.16130
SEQUENCE:3
DTSTAMP:20260425T180745Z
URL:https://business.nvcoc.com/events/details/nashoba-valley-job-seekers-01-28-2014-01-28-2014-16130
END:VEVENT

END:VCALENDAR
