BEGIN:VCALENDAR
VERSION:2.0
PRODID:-//ChamberMaster//Event Calendar 2.0//EN
METHOD:PUBLISH
X-PUBLISHED-TTL:P3D
REFRESH-INTERVAL:P3D
CALSCALE:GREGORIAN
BEGIN:VEVENT
DTSTART:20140114T190000Z
DTEND:20140114T210000Z
X-MICROSOFT-CDO-ALLDAYEVENT:FALSE
SUMMARY:Nashoba Valley Job Seekers - 01/14/2014
DESCRIPTION:The purpose of the Nashoba Valley Job Seekers Group is to provide leads\, ideas\, search strategies and encouragement for area job-seekers through face-to-face meetings and e-mail conversations.\n\n	 \n\n	\n\n	Our Guest Speaker will be Lydia Magill and she will discuss utilizing LinkedIn for the most effective networking for a successful job search.  If you have not had the pleasure of meeting Lydia\, she is a Human Resources professional who has specialized in Recruitment and Career Development for thirty years and has a wealth of information to share.
X-ALT-DESC;FMTTYPE=text/html:<p align="CENTER" dir="LTR">\n	<font face="Times New Roman" size="3"><font face="Times New Roman" size="3"><i><span style="font-size: 14pt\;"><span style="font-family: times new roman\,serif\;"><span style="color: rgb(34\, 34\, 34)\;">The purpose of the Nashoba Valley Job Seekers Group is to provide leads\, ideas\, search strategies and encouragement for area job-seekers through face-to-face meetings and e-mail conversations.</span></span></span><br />\n	&nbsp\;</i></font></font><br />\n	<br />\n	<span style="color:#ff0000\;"><span style="font-size:14px\;">Our Guest Speaker will be Lydia Magill and she will discuss utilizing LinkedIn for the most effective networking for a successful job search.&nbsp\; If you have not had the pleasure of meeting Lydia\, she is a Human Resources professional who has specialized in Recruitment and Career Development for thirty years and has a wealth of information to share.&nbsp\;</span></span><br />\n	<br />\n	&nbsp\;</p>\n
LOCATION:Nashoba Valley Chamber of Commerce 100 Sherman Ave.\, Devens
UID:e.518.16103
SEQUENCE:3
DTSTAMP:20260425T180723Z
URL:https://business.nvcoc.com/events/details/nashoba-valley-job-seekers-01-14-2014-01-14-2014-16103
END:VEVENT

END:VCALENDAR
