BEGIN:VCALENDAR
VERSION:2.0
PRODID:-//ChamberMaster//Event Calendar 2.0//EN
METHOD:PUBLISH
X-PUBLISHED-TTL:P3D
REFRESH-INTERVAL:P3D
CALSCALE:GREGORIAN
BEGIN:VEVENT
DTSTART;VALUE=DATE:20180113
DTEND;VALUE=DATE:20180114
TRANSP:TRANSPARENT
X-MICROSOFT-CDO-ALLDAYEVENT:TRUE
SUMMARY:* Mohegan Sun Bus Trip (Clinton Parks & Rec)
DESCRIPTION:Join us for our first trip to Mohegan Sun! Spend the day at this beautiful facility enjoying shopping\, restaurants\, and more!  Price includes coach transportation to and from Mohegan Sun\, a play Voucher\, and buffet. \n\n \n\nDate: Saturday January\, 13th\, 2018\n\nEst. Departure Time: 10:00am from Clinton Shaw's Parking Lot\n\nEst. Return Time: 6:00pm from Clinton Shaw's Parking Lot\n\nCost: $35.00 per person\n\nSpace is limited and we do need a minimum of 30 registrations to run this program.\n\n \n\nFor Reservations Contact:\n\nClinton Parks and Recreation Department\n\n560 High Street\, Clinton Ma 01510\n\n978-365-4140 Extension 302\n\n \n\nMake Checks Payable to: Town of Clinton
X-ALT-DESC;FMTTYPE=text/html:<span style="color:black\;"><span style="font-family:arial\,sans-serif\;">Join us for our first trip to Mohegan Sun! Spend the day at this beautiful facility enjoying shopping\, restaurants\, and more!&nbsp\; Price includes coach transportation to and from Mohegan Sun\, a play Voucher\, and buffet. </span></span><br />\n&nbsp\;<br />\n<strong><span style="color:black\;"><span style="font-family:arial\,sans-serif\;">Date: Saturday January\, 13th\, 2018</span></span></strong><br />\n<strong><span style="color:black\;"><span style="font-family:arial\,sans-serif\;">Est. Departure Time: 10:00am from Clinton Shaw&#39\;s Parking Lot</span></span></strong><br />\n<strong><span style="color:black\;"><span style="font-family:arial\,sans-serif\;">Est. Return Time: 6:00pm from Clinton Shaw&#39\;s Parking Lot</span></span></strong><br />\n<strong><span style="color:black\;"><span style="font-family:arial\,sans-serif\;">Cost: $35.00 per person</span></span></strong><br />\n<strong><span style="color:black\;"><span style="font-family:arial\,sans-serif\;">Space is limited and we do need a minimum of 30 registrations to run this program.</span></span></strong><br />\n&nbsp\;<br />\n<span style="color:black\;"><span style="font-family:arial\,sans-serif\;">For Reservations Contact:</span></span><br />\n<span style="color:black\;"><span style="font-family:arial\,sans-serif\;">Clinton Parks and Recreation Department</span></span><br />\n<span style="color:black\;"><span style="font-family:arial\,sans-serif\;">560 High Street\, Clinton Ma 01510</span></span><br />\n<span style="color:black\;"><span style="font-family:arial\,sans-serif\;">978-365-4140 Extension 302</span></span><br />\n&nbsp\;<br />\n<span style="color:black\;"><span style="font-family:arial\,sans-serif\;"><span style="font-size:12.0pt\;">Make Checks Payable to: Town of Clinton</span></span></span>
LOCATION:
UID:e.518.31719
SEQUENCE:3
DTSTAMP:20260426T042548Z
URL:https://business.nvcoc.com/events/details/mohegan-sun-bus-trip-clinton-parks-rec-31719
END:VEVENT

END:VCALENDAR
