BEGIN:VCALENDAR
VERSION:2.0
PRODID:-//ChamberMaster//Event Calendar 2.0//EN
METHOD:PUBLISH
X-PUBLISHED-TTL:P3D
REFRESH-INTERVAL:P3D
CALSCALE:GREGORIAN
BEGIN:VEVENT
DTSTART;VALUE=DATE:20180126
DTEND;VALUE=DATE:20180127
TRANSP:TRANSPARENT
X-MICROSOFT-CDO-ALLDAYEVENT:TRUE
SUMMARY:* Metabolic Training at Bodylines Pilates
DESCRIPTION:Metabolic Training\n\n			Fridays 4:15-5:15 pm\n		\n		\n			Metabolic Training is a high intensity workout utilizing large muscle groups and multi-joint exercises to torch calories and increase your metabolism for hours after your workout is complete.\n\n			Sign up for class!
X-ALT-DESC;FMTTYPE=text/html:<table border="0" cellpadding="0" cellspacing="0" style="width:100.0%\;border-collapse:collapse\;" width="100%">\n	<tbody>\n		<tr>\n			<td style="padding:7.5pt 7.5pt 7.5pt 15.0pt\;vertical-align:top\;"><strong><span style="color:#3A5A70\;"><span style="font-family:arial\,sans-serif\;"><span style="font-size:10.5pt\;">Metabolic Training</span></span></span></strong><br />\n			<strong><span style="color:#3A5A70\;"><span style="font-family:arial\,sans-serif\;"><span style="font-size:10.5pt\;">Fridays 4:15-5:15 pm</span></span></span></strong></td>\n		</tr>\n		<tr>\n			<td style="padding:7.5pt 7.5pt 7.5pt 15.0pt\;vertical-align:top\;"><span style="color:black\;"><span style="font-family:arial\,sans-serif\;"><span style="font-size:9.0pt\;">Metabolic Training is a high intensity workout utilizing large muscle groups and multi-joint exercises to torch calories and increase your metabolism for hours after your workout is complete.</span></span></span><br />\n			<span style="color:#767676\;"><span style="font-size:13.5pt\;"><a href="http://r20.rs6.net/tn.jsp?f=001wYEqiXEyG-M8ZgBCQlu3Lid-Phfh1eiZjvzCxdCEVQgKUmn3uIFJWxXgxMMUHj_6tfgEvWnipabUebT1LGkRLmJAN5TZRIacMyS-Er0B9RWIQf4X4yhzOeKVPhq_OuOyjsucYdtU8oD2UFjfP-MFetF64AOGPBJb4nPQiWwuOZDoLvKZ8YsJ6oYSV8EtIyMkj5rQ-vDx15heoKeAbo_yfE2CWWs-mIkSF6mTyhDtN3_9Y8bYWaXbpndI-0kkoEGXlDPH6f-3V2sqWiooI459jjhZWfO5qwqo9Dplw-6Em1v0CGJy6vHfFw==&amp\;c=j0xhILLeWlxEcQJDgky8j9Ofs-SsyIijX1gVXX9VL73tnmzSo2cFOg==&amp\;ch=p0JD3kYJqi-pI9HqAWIw88iy7inO7ha7H5yd2UuxSVElIDtHbop8pQ==" target="_blank"><strong><span style="color:black\;"><span style="font-size:10.5pt\;">Sign up for class!</span></span></strong></a></span></span></td>\n		</tr>\n	</tbody>\n</table>\n
LOCATION:
UID:e.518.32715
SEQUENCE:3
DTSTAMP:20260426T042507Z
URL:https://business.nvcoc.com/events/details/metabolic-training-at-bodylines-pilates-32715
END:VEVENT

END:VCALENDAR
