BEGIN:VCALENDAR
VERSION:2.0
PRODID:-//ChamberMaster//Event Calendar 2.0//EN
METHOD:PUBLISH
X-PUBLISHED-TTL:P3D
REFRESH-INTERVAL:P3D
CALSCALE:GREGORIAN
BEGIN:VEVENT
DTSTART:20180123T200000Z
DTEND:20180123T210000Z
X-MICROSOFT-CDO-ALLDAYEVENT:FALSE
SUMMARY:* Memory Cafe at the Java Room
DESCRIPTION:Bring your loved one to enjoy complimentary coffee and Pastries\, live music\, the companionship of peers and a delicious dose of the Java Room's natural aromatherapy! Please kindly RSVP as space is limited to 20.
X-ALT-DESC;FMTTYPE=text/html:Bring your loved one to enjoy complimentary coffee and Pastries\, live music\, the companionship of peers and a delicious dose of the Java Room&#39\;s natural aromatherapy! Please kindly RSVP as space is limited to 20.
LOCATION:Java Room 14 Littleton Rd Chelmsford MA
UID:e.518.32638
SEQUENCE:3
DTSTAMP:20260426T042333Z
URL:https://business.nvcoc.com/events/details/memory-cafe-at-the-java-room-32638
END:VEVENT

END:VCALENDAR
