BEGIN:VCALENDAR
VERSION:2.0
PRODID:-//ChamberMaster//Event Calendar 2.0//EN
METHOD:PUBLISH
X-PUBLISHED-TTL:P3D
REFRESH-INTERVAL:P3D
CALSCALE:GREGORIAN
BEGIN:VEVENT
DTSTART:20141024T113000Z
DTEND:20141024T130000Z
X-MICROSOFT-CDO-ALLDAYEVENT:FALSE
SUMMARY:Mega Speed Networking Breakfast - A Three Chamber Event at Great Wolf Lodge NE
DESCRIPTION:Three Chamber MEGA NETWORKING Event on October 24\, 2014\n\n \n\nJoin us to network with countless other businesses from throughout the region in speed-networking style!  \n\n \n\nBring plenty of business cards and brochures to distribute to the folks that you will be networking with!\n\n\n\nThis event is co-hosted by the Greater Gardner\, North Central and Nashoba Valley Chamber.\n\n\n\nPlease make sure to register with only ONE chamber.  You will be responsible for duplicate registrations.
X-ALT-DESC;FMTTYPE=text/html:<h2 style="font-style:italic\;"><br />\n<span style="font-size:26px\;"><span style="font-family:times new roman\;"><strong>Three Chamber </strong><span style="color:#AC2832\;">MEGA NETWORKING&nbsp\;</span><strong>Event on October 24\, 2014</strong><br />\n&nbsp\;<br />\n<em><span style="color:#AC2832\;">Join us to network with countless other businesses from throughout the region in speed-networking style! &nbsp\;</span></em><br />\n&nbsp\;<br />\n<em><span style="color:#AC2832\;">Bring plenty of business cards and brochures to distribute to the folks that you will be networking with!<br />\n<br />\nThis event is co-hosted by the Greater Gardner\, North Central and Nashoba Valley Chamber.</span></em><br />\n<br />\nPlease make sure to register with only ONE chamber. &nbsp\;You will be responsible for duplicate registrations.</span></span><br />\n<br />\n<br />\n<br />\n&nbsp\;</h2>\n
LOCATION:Great Wolf Lodge New England 150 Great Wolf Drive Fitchburg MA 01420
UID:e.518.18051
SEQUENCE:3
DTSTAMP:20260425T010458Z
URL:https://business.nvcoc.com/events/details/mega-speed-networking-breakfast-a-three-chamber-event-at-great-wolf-lodge-ne-10-24-2014-18051
END:VEVENT

END:VCALENDAR
