BEGIN:VCALENDAR
VERSION:2.0
PRODID:-//ChamberMaster//Event Calendar 2.0//EN
METHOD:PUBLISH
X-PUBLISHED-TTL:P3D
REFRESH-INTERVAL:P3D
CALSCALE:GREGORIAN
BEGIN:VEVENT
DTSTART:20140114T170000Z
DTEND:20140114T183000Z
X-MICROSOFT-CDO-ALLDAYEVENT:FALSE
SUMMARY:Mega Mixer Luncheon - POSTPONED
DESCRIPTION:1/7/14 Event Postponed
X-ALT-DESC;FMTTYPE=text/html:<font face="goudy old style\, serif" size="4">1/7/14 Event Postponed</font>
LOCATION:
UID:e.518.15791
SEQUENCE:3
DTSTAMP:20260425T170325Z
URL:https://business.nvcoc.com/events/details/mega-mixer-luncheon-postponed-01-14-2014-15791
END:VEVENT

END:VCALENDAR
