BEGIN:VCALENDAR
VERSION:2.0
PRODID:-//ChamberMaster//Event Calendar 2.0//EN
METHOD:PUBLISH
X-PUBLISHED-TTL:P3D
REFRESH-INTERVAL:P3D
CALSCALE:GREGORIAN
BEGIN:VEVENT
DTSTART;VALUE=DATE:20141105
DTEND;VALUE=DATE:20141106
TRANSP:TRANSPARENT
X-MICROSOFT-CDO-ALLDAYEVENT:TRUE
SUMMARY:Mega Business After Hours
DESCRIPTION:Early Bird Rate Registration closed... \n\n\n\nChambers participating include:\n\n	Nashoba Valley Chamber of Commerce\n	North Central Chamber of Commerce\n	Corridor Nine Chamber of Commerce\n	Greater Gardner Chamber of Commerce\n	Worcester Chamber of Commerce
X-ALT-DESC;FMTTYPE=text/html:<span style="font-size:14px\;"><span style="color:#FF0000\;">Early Bird Rate Registration closed...&nbsp\;</span></span><br>\n<br>\nChambers participating include:\n<ul>\n	<li>Nashoba Valley Chamber of Commerce</li>\n	<li>North Central Chamber of Commerce</li>\n	<li>Corridor Nine Chamber of Commerce</li>\n	<li>Greater Gardner Chamber of Commerce</li>\n	<li>Worcester Chamber of Commerce</li>\n</ul>\n<br>\n&nbsp\;
LOCATION:Great Wolf Lodge New England 150 Great Wolf Drive Fitchburg MA 01420
UID:e.518.18052
SEQUENCE:3
DTSTAMP:20260424T213140Z
URL:https://business.nvcoc.com/events/details/mega-business-after-hours-11-05-2014-18052
END:VEVENT

END:VCALENDAR
