BEGIN:VCALENDAR
VERSION:2.0
PRODID:-//ChamberMaster//Event Calendar 2.0//EN
METHOD:PUBLISH
X-PUBLISHED-TTL:P3D
REFRESH-INTERVAL:P3D
CALSCALE:GREGORIAN
BEGIN:VEVENT
DTSTART;VALUE=DATE:20180119
DTEND;VALUE=DATE:20180120
TRANSP:TRANSPARENT
X-MICROSOFT-CDO-ALLDAYEVENT:TRUE
SUMMARY:* Medicine Wheel: North – Monthly Shamanic & Life Skills workshop
DESCRIPTION:Medicine Wheel: North   Monthly Shamanic & Life Skills workshop\n\n \n\nTomorrow\, Friday - Jan 19 @ 7:00 pm   9:30 pm\n\n \n\nAre you ready to remember who you are\, build or add to your healer's toolkit\, receive powerful energy attunements\, and learn how the Medicine Wheel can assist you in navigating your life? [read more]\n\n \n\nCost: $50 per class with 5th class free
X-ALT-DESC;FMTTYPE=text/html:<span style="color:#3661BD\;"><span style="font-family:arial\,sans-serif\;"><span style="font-size:9.0pt\;"><a href="http://r20.rs6.net/tn.jsp?f=001UTwa5Xrj3BcwlLd9slqL2jee4peCIfC4Kk8vWJQE1owveUm37k37-djyOG7_lGQkJrfNffwb3gFDMavO5rTKvfIHilfLQjUKHoJ09F6xuyomPYRokaUoqWSK5xmNuPLGpevlQGAbvhBr3WIrPrrc0nxGEN9EcFXEgzWs_TwtNGqVQBNQ4gBQ6ayxOcsS20nStzPkxx2sxI5yMauYzdLi0UTMuE2SPMowXPA5mf8BKAlbUQnr-gWMS3lynCKw4ytgiAdKoaAjkhX8qM35KvyLPzcnt0c5o5Xh&amp\;c=QBphHzR7YXK7fy8JKM7BM1XXFZKaNvYBRkkipjvEvsiIuGzlgxFQYw==&amp\;ch=mInr4ukc_flvcdS1grIRlBKJQmj_riLsem_PNMoN9B0CKE3mkfitMA==" target="_blank"><strong><span style="color:#789051\;"><span style="font-size:12.0pt\;">Medicine Wheel: North &ndash\; Monthly Shamanic &amp\; Life Skills workshop</span></span></strong></a></span></span></span><br />\n&nbsp\;<br />\n<span style="color:#2A4C7D\;"><span style="font-family:arial\,sans-serif\;">Tomorrow\, Friday - Jan 19 @ 7:00 pm &ndash\; 9:30 pm</span></span><br />\n&nbsp\;<br />\n<span style="color:#789051\;"><span style="font-family:arial\,sans-serif\;">Are you ready to remember who you are\, build or add to your healer&rsquo\;s toolkit\, receive powerful energy attunements\, and learn how the Medicine Wheel can assist you in navigating your life? </span></span><span style="color:#3661BD\;"><span style="font-family:arial\,sans-serif\;"><span style="font-size:9.0pt\;"><a href="http://r20.rs6.net/tn.jsp?f=001UTwa5Xrj3BcwlLd9slqL2jee4peCIfC4Kk8vWJQE1owveUm37k37-djyOG7_lGQkJrfNffwb3gFDMavO5rTKvfIHilfLQjUKHoJ09F6xuyomPYRokaUoqWSK5xmNuPLGpevlQGAbvhBr3WIrPrrc0nxGEN9EcFXEgzWs_TwtNGqVQBNQ4gBQ6ayxOcsS20nStzPkxx2sxI5yMauYzdLi0UTMuE2SPMowXPA5mf8BKAlbUQnr-gWMS3lynCKw4ytgiAdKoaAjkhX8qM35KvyLPzcnt0c5o5Xh&amp\;c=QBphHzR7YXK7fy8JKM7BM1XXFZKaNvYBRkkipjvEvsiIuGzlgxFQYw==&amp\;ch=mInr4ukc_flvcdS1grIRlBKJQmj_riLsem_PNMoN9B0CKE3mkfitMA==" target="_blank"><strong><span style="color:#789051\;"><span style="font-size:12.0pt\;">[read more]</span></span></strong></a></span></span></span><br />\n&nbsp\;<br />\n<strong><span style="color:#789051\;"><span style="font-family:arial\,sans-serif\;"><span style="font-size:12.0pt\;">Cost</span></span></span></strong><span style="color:#789051\;"><span style="font-family:arial\,sans-serif\;"><span style="font-size:12.0pt\;">: $50 per class with 5th class free&nbsp\;</span></span></span>
LOCATION:
UID:e.518.32702
SEQUENCE:3
DTSTAMP:20260426T043122Z
URL:https://business.nvcoc.com/events/details/medicine-wheel-north-monthly-shamanic-life-skills-workshop-32702
END:VEVENT

END:VCALENDAR
