BEGIN:VCALENDAR
VERSION:2.0
PRODID:-//ChamberMaster//Event Calendar 2.0//EN
METHOD:PUBLISH
X-PUBLISHED-TTL:P3D
REFRESH-INTERVAL:P3D
CALSCALE:GREGORIAN
BEGIN:VEVENT
DTSTART:20180104T170000Z
DTEND:20180104T183000Z
X-MICROSOFT-CDO-ALLDAYEVENT:FALSE
SUMMARY:* Lunch and Learn: Dementia/Alzheimer's Signs and Stages
DESCRIPTION:Dementia/Alzheimer's Signs and Stages: Learn how to recognize the signs of Dementia\, respond appropriately to new or worsening symptoms\, and keep the individual safe during each stage of the disease.
X-ALT-DESC;FMTTYPE=text/html:Dementia/Alzheimer&#39\;s Signs and Stages: Learn how to recognize the signs of Dementia\, respond appropriately to new or worsening symptoms\, and keep the individual safe during each stage of the disease.
LOCATION:Bridges by EPOCH at Westford 108 Littleton Rd Westford MA 01886
UID:e.518.32635
SEQUENCE:3
DTSTAMP:20260426T043031Z
URL:https://business.nvcoc.com/events/details/lunch-and-learn-dementia-alzheimer-s-signs-and-stages-32635
END:VEVENT

END:VCALENDAR
