BEGIN:VCALENDAR
VERSION:2.0
PRODID:-//ChamberMaster//Event Calendar 2.0//EN
METHOD:PUBLISH
X-PUBLISHED-TTL:P3D
REFRESH-INTERVAL:P3D
CALSCALE:GREGORIAN
BEGIN:VEVENT
DTSTART;VALUE=DATE:20180108
DTEND;VALUE=DATE:20180109
TRANSP:TRANSPARENT
X-MICROSOFT-CDO-ALLDAYEVENT:TRUE
SUMMARY:* Littleton Common Sewer Update and Forum
DESCRIPTION:Littleton Common Sewer Update and Forum - Mark Your Calendars.\n\n \n\nThe Board of Selectmen are ready to answer all of your questions!\n \n\n\nEvent Date: \n\n\nMonday\, January 8\, 2018 - 6:30pm\n\nAddress\n\nLittleton Town Offices\n\n37 Shattuck Street \n\n1st Floor\, Room 103\n\nLittleton\, MA 01460\n\nUnited States\n\nSee map: Google Maps\nBoard of Selectmen Meetings are held at 6:30 PM in Room 103\, Town Offices\, unless otherwise noted.  \n\nFAQs from the Littleton MA website\n\n\n	How does a sewer utility benefit the affected property owners?\n\n\n\n	What benefits can the town expect to realize with a sewer utility?\n\n\n\n	Who is eligible to hook into the sewer?\n\n\n\n	How will the sewer utility impact the rural character of the town?\n\n\n\n	How will the sewer utility impact the environment - positively or negatively?\n\n\n\n	Who will pay for this? Will a tax override be necessary?\n\n\n\n	Will a more thorough financial/economic analysis be done?\n\n\n\n	Have the "future costs"\, or life cycle costs been considered?\n\n\n\n	How can residents stay informed?\n\n\n\n	What is "Smart Sewering"?\n\n\n\n	How is this project different than those of all the towns around us who have added a sewer utility?\n\n\n\n	Will sewering be made available to the entire town?\n\n\n\n	What changes (or impacts) will the sewer utility have on current zoning regulations?\n\n\n\n	Assuming the project and the anticipated development are successful\, are there plans to make the area more pedestrian-friendly?\n\n\n\n	What is the estimated timeline for the project? What are the next steps?\n\n\n\n	Do residents have any voice in determining whether or not the project moves forward?\n\n\n\n	How will the sewer utility help us control growth?\n\nWhy aren't specific costs of the project published yet?
X-ALT-DESC;FMTTYPE=text/html:<h1>Littleton Common Sewer Update and Forum - Mark Your Calendars.</h1>\n\n<h1>&nbsp\;</h1>\n\n<header><span style="font-size:12.0pt\;">The Board of Selectmen are ready to answer all of your questions!</span></header>\n&nbsp\;\n\n<article about="/board-selectmen/events/69073" role="article" typeof="sioc:Item foaf:Document">\n<header>Event Date:&nbsp\;</header>\n<br />\n<span style="color:#202020\;"><span style="font-family:helvetica\,sans-serif\;">Monday\, January 8\, 2018 - 6:30pm</span></span>\n\n<h3><span style="font-size:12.0pt\;">Address</span></h3>\n\n<address style="line-height:150%\;"><span style="color:#202020\;"><span style="font-family:helvetica\,sans-serif\;">Littleton Town Offices</span></span></address>\n\n<address style="line-height:150%\;"><span style="color:#202020\;"><span style="font-family:helvetica\,sans-serif\;">37 Shattuck Street </span></span></address>\n\n<address style="line-height:150%\;"><span style="color:#202020\;"><span style="font-family:helvetica\,sans-serif\;">1st Floor\, Room 103</span></span></address>\n\n<address style="line-height:150%\;"><span style="color:#202020\;"><span style="font-family:helvetica\,sans-serif\;">Littleton</span></span><span style="color:#202020\;"><span style="font-family:helvetica\,sans-serif\;">\, MA</span> 01460</span></address>\n\n<address style="line-height:150%\;"><span style="color:#202020\;"><span style="font-family:helvetica\,sans-serif\;">United States</span></span></address>\n\n<address style="line-height:150%\;"><span style="color:#202020\;"><span style="font-family:helvetica\,sans-serif\;">See map: <a href="https://littletonba.us10.list-manage.com/track/click?u=d53797454ec1c019e93ec33d5&amp\;id=348bf83b01&amp\;e=591f477a08" style="-ms-text-size-adjust:100%\;-webkit-text-size-adjust:100%\;" target="_blank"><span style="color:#0066CC\;">Google Maps</span></a></span></span></address>\n<span style="color:#202020\;"><span style="font-family:helvetica\,sans-serif\;">Board of Selectmen Meetings are held at 6:30 PM in Room 103\, Town Offices\, unless otherwise noted.&nbsp\;&nbsp\;</span></span>\n\n<h2>FAQs from the Littleton MA website</h2>\n\n<ul>\n	<li style="color:#202020\;line-height:150%\;-ms-text-size-adjust:100%\;-webkit-text-size-adjust:100%\;"><span style="font-family:helvetica\,sans-serif\;"><a href="https://littletonba.us10.list-manage.com/track/click?u=d53797454ec1c019e93ec33d5&amp\;id=1453be5fd3&amp\;e=591f477a08" style="-ms-text-size-adjust:100%\;-webkit-text-size-adjust:100%\;"><span style="color:#0066CC\;">How does a sewer utility benefit the affected property owners?</span></a></span></li>\n</ul>\n\n<ul>\n	<li style="color:#202020\;line-height:150%\;-ms-text-size-adjust:100%\;-webkit-text-size-adjust:100%\;"><span style="font-family:helvetica\,sans-serif\;"><a href="https://littletonba.us10.list-manage.com/track/click?u=d53797454ec1c019e93ec33d5&amp\;id=2ef419d2db&amp\;e=591f477a08" style="-ms-text-size-adjust:100%\;-webkit-text-size-adjust:100%\;"><span style="color:#0066CC\;">What benefits can the town expect to realize with a sewer utility?</span></a></span></li>\n</ul>\n\n<ul>\n	<li style="color:#202020\;line-height:150%\;-ms-text-size-adjust:100%\;-webkit-text-size-adjust:100%\;"><span style="font-family:helvetica\,sans-serif\;"><a href="https://littletonba.us10.list-manage.com/track/click?u=d53797454ec1c019e93ec33d5&amp\;id=ca77e176db&amp\;e=591f477a08" style="-ms-text-size-adjust:100%\;-webkit-text-size-adjust:100%\;"><span style="color:#0066CC\;">Who is eligible to hook into the sewer?</span></a></span></li>\n</ul>\n\n<ul>\n	<li style="color:#202020\;line-height:150%\;-ms-text-size-adjust:100%\;-webkit-text-size-adjust:100%\;"><span style="font-family:helvetica\,sans-serif\;"><a href="https://littletonba.us10.list-manage.com/track/click?u=d53797454ec1c019e93ec33d5&amp\;id=30ac0c50cd&amp\;e=591f477a08" style="-ms-text-size-adjust:100%\;-webkit-text-size-adjust:100%\;"><span style="color:#0066CC\;">How will the sewer utility impact the rural character of the town?</span></a></span></li>\n</ul>\n\n<ul>\n	<li style="color:#202020\;line-height:150%\;-ms-text-size-adjust:100%\;-webkit-text-size-adjust:100%\;"><span style="font-family:helvetica\,sans-serif\;"><a href="https://littletonba.us10.list-manage.com/track/click?u=d53797454ec1c019e93ec33d5&amp\;id=0d202b06a2&amp\;e=591f477a08" style="-ms-text-size-adjust:100%\;-webkit-text-size-adjust:100%\;"><span style="color:#0066CC\;">How will the sewer utility impact the environment - positively or negatively?</span></a></span></li>\n</ul>\n\n<ul>\n	<li style="color:#202020\;line-height:150%\;-ms-text-size-adjust:100%\;-webkit-text-size-adjust:100%\;"><span style="font-family:helvetica\,sans-serif\;"><a href="https://littletonba.us10.list-manage.com/track/click?u=d53797454ec1c019e93ec33d5&amp\;id=6095c37d9b&amp\;e=591f477a08" style="-ms-text-size-adjust:100%\;-webkit-text-size-adjust:100%\;"><span style="color:#0066CC\;">Who will pay for this? Will a tax override be necessary?</span></a></span></li>\n</ul>\n\n<ul>\n	<li style="color:#202020\;line-height:150%\;-ms-text-size-adjust:100%\;-webkit-text-size-adjust:100%\;"><span style="font-family:helvetica\,sans-serif\;"><a href="https://littletonba.us10.list-manage.com/track/click?u=d53797454ec1c019e93ec33d5&amp\;id=fd171a0dc3&amp\;e=591f477a08" style="-ms-text-size-adjust:100%\;-webkit-text-size-adjust:100%\;"><span style="color:#0066CC\;">Will a more thorough financial/economic analysis be done?</span></a></span></li>\n</ul>\n\n<ul>\n	<li style="color:#202020\;line-height:150%\;-ms-text-size-adjust:100%\;-webkit-text-size-adjust:100%\;"><span style="font-family:helvetica\,sans-serif\;"><a href="https://littletonba.us10.list-manage.com/track/click?u=d53797454ec1c019e93ec33d5&amp\;id=375792e106&amp\;e=591f477a08" style="-ms-text-size-adjust:100%\;-webkit-text-size-adjust:100%\;"><span style="color:#0066CC\;">Have the &quot\;future costs&quot\;\, or life cycle costs been considered?</span></a></span></li>\n</ul>\n\n<ul>\n	<li style="color:#202020\;line-height:150%\;-ms-text-size-adjust:100%\;-webkit-text-size-adjust:100%\;"><span style="font-family:helvetica\,sans-serif\;"><a href="https://littletonba.us10.list-manage.com/track/click?u=d53797454ec1c019e93ec33d5&amp\;id=fd7d7aa8c3&amp\;e=591f477a08" style="-ms-text-size-adjust:100%\;-webkit-text-size-adjust:100%\;"><span style="color:#0066CC\;">How can residents stay informed?</span></a></span></li>\n</ul>\n\n<ul>\n	<li style="color:#202020\;line-height:150%\;-ms-text-size-adjust:100%\;-webkit-text-size-adjust:100%\;"><span style="font-family:helvetica\,sans-serif\;"><a href="https://littletonba.us10.list-manage.com/track/click?u=d53797454ec1c019e93ec33d5&amp\;id=81d9abd284&amp\;e=591f477a08" style="-ms-text-size-adjust:100%\;-webkit-text-size-adjust:100%\;"><span style="color:#0066CC\;">What is &quot\;Smart Sewering&quot\;?</span></a></span></li>\n</ul>\n\n<ul>\n	<li style="color:#202020\;line-height:150%\;-ms-text-size-adjust:100%\;-webkit-text-size-adjust:100%\;"><span style="font-family:helvetica\,sans-serif\;"><a href="https://littletonba.us10.list-manage.com/track/click?u=d53797454ec1c019e93ec33d5&amp\;id=c6b8824a8e&amp\;e=591f477a08" style="-ms-text-size-adjust:100%\;-webkit-text-size-adjust:100%\;"><span style="color:#0066CC\;">How is this project different than those of all the towns around us who have added a sewer utility?</span></a></span></li>\n</ul>\n\n<ul>\n	<li style="color:#202020\;line-height:150%\;-ms-text-size-adjust:100%\;-webkit-text-size-adjust:100%\;"><span style="font-family:helvetica\,sans-serif\;"><a href="https://littletonba.us10.list-manage.com/track/click?u=d53797454ec1c019e93ec33d5&amp\;id=6e63b5a37f&amp\;e=591f477a08" style="-ms-text-size-adjust:100%\;-webkit-text-size-adjust:100%\;"><span style="color:#0066CC\;">Will sewering be made available to the entire town?</span></a></span></li>\n</ul>\n\n<ul>\n	<li style="color:#202020\;line-height:150%\;-ms-text-size-adjust:100%\;-webkit-text-size-adjust:100%\;"><span style="font-family:helvetica\,sans-serif\;"><a href="https://littletonba.us10.list-manage.com/track/click?u=d53797454ec1c019e93ec33d5&amp\;id=eb7ae7361e&amp\;e=591f477a08" style="-ms-text-size-adjust:100%\;-webkit-text-size-adjust:100%\;"><span style="color:#0066CC\;">What changes (or impacts) will the sewer utility have on current zoning regulations?</span></a></span></li>\n</ul>\n\n<ul>\n	<li style="color:#202020\;line-height:150%\;-ms-text-size-adjust:100%\;-webkit-text-size-adjust:100%\;"><span style="font-family:helvetica\,sans-serif\;"><a href="https://littletonba.us10.list-manage.com/track/click?u=d53797454ec1c019e93ec33d5&amp\;id=ab87f36340&amp\;e=591f477a08" style="-ms-text-size-adjust:100%\;-webkit-text-size-adjust:100%\;"><span style="color:#0066CC\;">Assuming the project and the anticipated development are successful\, are there plans to make the area more pedestrian-friendly?</span></a></span></li>\n</ul>\n\n<ul>\n	<li style="color:#202020\;line-height:150%\;-ms-text-size-adjust:100%\;-webkit-text-size-adjust:100%\;"><span style="font-family:helvetica\,sans-serif\;"><a href="https://littletonba.us10.list-manage.com/track/click?u=d53797454ec1c019e93ec33d5&amp\;id=3f064caee8&amp\;e=591f477a08" style="-ms-text-size-adjust:100%\;-webkit-text-size-adjust:100%\;"><span style="color:#0066CC\;">What is the estimated timeline for the project? What are the next steps?</span></a></span></li>\n</ul>\n\n<ul>\n	<li style="color:#202020\;line-height:150%\;-ms-text-size-adjust:100%\;-webkit-text-size-adjust:100%\;"><span style="font-family:helvetica\,sans-serif\;"><a href="https://littletonba.us10.list-manage.com/track/click?u=d53797454ec1c019e93ec33d5&amp\;id=7e8bcd4b8d&amp\;e=591f477a08" style="-ms-text-size-adjust:100%\;-webkit-text-size-adjust:100%\;"><span style="color:#0066CC\;">Do residents have any voice in determining whether or not the project moves forward?</span></a></span></li>\n</ul>\n\n<ul>\n	<li style="color:#202020\;line-height:150%\;-ms-text-size-adjust:100%\;-webkit-text-size-adjust:100%\;"><span style="font-family:helvetica\,sans-serif\;"><a href="https://littletonba.us10.list-manage.com/track/click?u=d53797454ec1c019e93ec33d5&amp\;id=ef190304fb&amp\;e=591f477a08" style="-ms-text-size-adjust:100%\;-webkit-text-size-adjust:100%\;"><span style="color:#0066CC\;">How will the sewer utility help us control growth?</span></a></span></li>\n</ul>\n<span style="color:#202020\;"><span style="font-family:helvetica\,sans-serif\;"><span style="font-size:12.0pt\;"><a href="https://littletonba.us10.list-manage.com/track/click?u=d53797454ec1c019e93ec33d5&amp\;id=57312d7989&amp\;e=591f477a08" style="-ms-text-size-adjust:100%\;-webkit-text-size-adjust:100%\;"><span style="color:#0066CC\;">Why aren&#39\;t specific costs of the project published yet?</span></a></span></span></span></article>\n
LOCATION:
UID:e.518.32648
SEQUENCE:3
DTSTAMP:20260426T041959Z
URL:https://business.nvcoc.com/events/details/littleton-common-sewer-update-and-forum-32648
END:VEVENT

END:VCALENDAR
