BEGIN:VCALENDAR
VERSION:2.0
PRODID:-//ChamberMaster//Event Calendar 2.0//EN
METHOD:PUBLISH
X-PUBLISHED-TTL:P3D
REFRESH-INTERVAL:P3D
CALSCALE:GREGORIAN
BEGIN:VEVENT
DTSTART;VALUE=DATE:20180110
DTEND;VALUE=DATE:20180111
TRANSP:TRANSPARENT
X-MICROSOFT-CDO-ALLDAYEVENT:TRUE
SUMMARY:* Littleton Coalition Against Addiction Community Forum
DESCRIPTION:LCAA presents a Community Forum with guest speaker\, Ritchie Farrell\, a former boxer from Lowell and addiction survivor. Please join us to hear about his journey to recovery and learn about addiction\, causes\, and ways to recover including resources for you\, your friends and your family! Addiction is a disease - not a choice! No one is immune and we are here to help!
X-ALT-DESC;FMTTYPE=text/html:<div class="_2qgs" style="color: rgb(75\, 79\, 86)\; padding: 12px\; position: relative\; border-top: none\; font-family: Helvetica\, Arial\, sans-serif\; font-size: 12px\;"><span class="_4n-j _3cht fsl" data-testid="event-permalink-details" style="font-size: 14px\; font-family: inherit\;">LCAA presents a Community Forum with guest speaker\, Ritchie Farrell\, a former boxer from Lowell and addiction survivor. Please join us to hear about his journey to recovery and learn about addiction\, causes\, and ways to recover including resources for you\, your friends and your family! Addiction is a disease - not a choice! No one is immune and we are here to help!</span></div>\n\n<div class="_1r51" style="line-height: 24px\; margin: 4px 12px 12px\; min-height: 24px\; font-family: Helvetica\, Arial\, sans-serif\; color: rgb(29\, 33\, 41)\; font-size: 12px\;">\n<ul class="uiList uiCollapsedList uiCollapsedListHidden _509- _4ki" id="u_fetchstream_9_p" style="list-style-type: none\; margin: 0px\; padding-right: 0px\; padding-left: 0px\;">\n	<li style="border-width: 0px\; display: inline-block\; vertical-align: top\;">&nbsp\;</li>\n</ul>\n</div>\n
LOCATION:Littleton High School 56 King Street\, Littleton
UID:e.518.32652
SEQUENCE:3
DTSTAMP:20260426T042853Z
URL:https://business.nvcoc.com/events/details/littleton-coalition-against-addiction-community-forum-32652
END:VEVENT

END:VCALENDAR
