BEGIN:VCALENDAR
VERSION:2.0
PRODID:-//ChamberMaster//Event Calendar 2.0//EN
METHOD:PUBLISH
X-PUBLISHED-TTL:P3D
REFRESH-INTERVAL:P3D
CALSCALE:GREGORIAN
BEGIN:VEVENT
DTSTART:20180125T220000Z
DTEND:20180125T233000Z
X-MICROSOFT-CDO-ALLDAYEVENT:FALSE
SUMMARY:* Life Planning with Attorney David Walker
DESCRIPTION:Are your loved ones assets and wishes protected? Join us with your questions regarding estate planning\, wills and trusts\, asset protection\, powers of attorney and more.
X-ALT-DESC;FMTTYPE=text/html:Are your loved ones assets and wishes protected? Join us with your questions regarding estate planning\, wills and trusts\, asset protection\, powers of attorney and more.
LOCATION:Bridges by EPOCH at Westford 108 Littleton Road Westford MA 01886
UID:e.518.32636
SEQUENCE:3
DTSTAMP:20260426T042502Z
URL:https://business.nvcoc.com/events/details/life-planning-with-attorney-david-walker-32636
END:VEVENT

END:VCALENDAR
