BEGIN:VCALENDAR
VERSION:2.0
PRODID:-//ChamberMaster//Event Calendar 2.0//EN
METHOD:PUBLISH
X-PUBLISHED-TTL:P3D
REFRESH-INTERVAL:P3D
CALSCALE:GREGORIAN
BEGIN:VEVENT
DTSTART;VALUE=DATE:20180116
DTEND;VALUE=DATE:20180117
TRANSP:TRANSPARENT
X-MICROSOFT-CDO-ALLDAYEVENT:TRUE
SUMMARY:* Liberty Hotel Art Pop-Up
DESCRIPTION:Liberty Hotel Art Pop-Up\n\n									Tuesday\, Jan. 16\, 6   8 PM\n\n									Location:\n\n									The Liberty Hotel in Boston\n\n									215 Charles St.\n\n									Boston\, MA\n\n									\n\n									Next Shirley Opening:\n\n									\n\n									Saturday\, Jan. 27\, 1   3 PM\n\n									Go Ask Alice!\n\n									by Colette Shumate Smith\n\n									Location:\n\n									The Bull Run\n\n									215 Great Rd.\n\n									Shirley\, MA\n\n									\n\n									 \n									\n									\n									\n\n									\n\n									FEBRUARY\n\n									\n\n									Saturday\, Feb. 10\,  1   4 PM\n\n									"A Promise of Things to Come"\n\n									A Plein Air Show by Doreen LaScola\, with New Work by Thomas W. Bradley\, work by Joelle Feldman\, and we will introduce a new artist to the gallery as well during this show.\n\n									Location:\n\n									Gallery Sitka West\n\n									454 Main St.\n\n									Fitchburg\, MA 01420\n\n									\n\n									Plan Dinner after the Show\n\n									\n\n									Before/After the Show\, Shop/Play:\n\n									Shack's + Duvarney Jeweler's\n\n									Plan an Escape\n\n									or See MORE ART:\n\n									Fitchburg Art Museum\n\n									Boulder Art Gallery\n								\n							\n						\n						\n					\n				\n			\n			\n		\n	\n\n \n\n\n	\n		\n			\n			\n				\n					\n						 \n					\n				\n			\n			\n		\n	\n\n \n\n\n	\n		\n			\n			\n				\n					\n						\n						\n							\n								\n									APRIL\n\n									\n\n									Saturday\, April 14\,  2   4 PM\n\n									Earth Day   Colette Shumate Smith\n\n									New work by Colette Shumate Smith. This show is open to submissions. View the Call for Art.\n\n									Location: \n\n									Gallery Sitka West\n\n									454 Main St.\n\n									Fitchburg\, MA 01420\n\n									\n\n									\n\n									Our mailing address is:\n\n									2 Shaker Rd.\, D101\, Shirley\, MA 01464\n\n									or\n\n									454 Main St.\, Fitchburg\, MA 01464
X-ALT-DESC;FMTTYPE=text/html:<table border="0" cellpadding="0" cellspacing="0" style="width:100.0%\;border-collapse:collapse\;" width="100%">\n	<tbody>\n		<tr>\n			<td style="padding:6.75pt 0in 0in 0in\;vertical-align:top\;">\n			<table align="left" border="0" cellpadding="0" cellspacing="0" style="width:100.0%\;border-collapse:collapse\;margin-left:-2.25pt\;margin-right:-2.25pt\;" width="100%">\n				<tbody>\n					<tr>\n						<td style="width:600px\;padding:0in 0in 0in 0in\;vertical-align:top\;">\n						<table align="left" border="0" cellpadding="0" cellspacing="0" style="width:100.0%\;border-collapse:collapse\;" width="100%">\n							<tbody>\n								<tr>\n									<td style="padding:0in 13.5pt 6.75pt 13.5pt\;vertical-align:top\;"><br />\n									<strong><span style="color:firebrick\;"><span style="font-family:helvetica\,sans-serif\;"><span style="font-size:18.0pt\;">Liberty Hotel Art Pop-Up</span></span></span></strong><br />\n									<span style="color:#202020\;"><span style="font-family:helvetica\,sans-serif\;"><span style="font-size:13.5pt\;"><a href="https://gallerysitka.us2.list-manage.com/track/click?u=5743622aaaccd2b602530d50b&amp\;id=61d7564ac6&amp\;e=53cb83fd11" style="-ms-text-size-adjust:100%\;-webkit-text-size-adjust:100%\;" target="_blank"><span style="color:#2BAADF\;">Tuesday\, Jan. 16\, 6 &mdash\; 8 PM</span></a><br />\n									Location:<br />\n									<a href="https://gallerysitka.us2.list-manage.com/track/click?u=5743622aaaccd2b602530d50b&amp\;id=d90a05474d&amp\;e=53cb83fd11" style="-ms-text-size-adjust:100%\;-webkit-text-size-adjust:100%\;" target="_blank"><span style="color:#2BAADF\;">The Liberty Hotel in Boston</span></a><br />\n									<a href="https://gallerysitka.us2.list-manage.com/track/click?u=5743622aaaccd2b602530d50b&amp\;id=621e766da1&amp\;e=53cb83fd11" style="-ms-text-size-adjust:100%\;-webkit-text-size-adjust:100%\;" target="_blank"><span style="color:#2BAADF\;">215 Charles St.<br />\n									Boston\, MA</span></a></span></span></span><br />\n									<br />\n									<strong><span style="color:firebrick\;"><span style="font-family:helvetica\,sans-serif\;"><span style="font-size:18.0pt\;">Next Shirley Opening:</span></span></span></strong><br />\n									<br />\n									<span style="color:#202020\;"><span style="font-family:helvetica\,sans-serif\;"><span style="font-size:13.5pt\;"><a href="https://gallerysitka.us2.list-manage.com/track/click?u=5743622aaaccd2b602530d50b&amp\;id=e31aff1c2b&amp\;e=53cb83fd11" style="-ms-text-size-adjust:100%\;-webkit-text-size-adjust:100%\;" target="_blank"><span style="color:#2BAADF\;">Saturday\, Jan. 27\, 1 &mdash\; 3 PM</span></a></span></span></span><br />\n									<strong><span style="color:firebrick\;"><span style="font-family:helvetica\,sans-serif\;"><span style="font-size:13.5pt\;">Go Ask Alice!</span></span></span></strong><br />\n									<span style="color:#202020\;"><span style="font-family:helvetica\,sans-serif\;"><span style="font-size:13.5pt\;">by <a href="https://gallerysitka.us2.list-manage.com/track/click?u=5743622aaaccd2b602530d50b&amp\;id=598685b2ea&amp\;e=53cb83fd11" style="-ms-text-size-adjust:100%\;-webkit-text-size-adjust:100%\;" target="_blank"><span style="color:#2BAADF\;">Colette Shumate Smith</span></a><br />\n									Location:<br />\n									<a href="https://gallerysitka.us2.list-manage.com/track/click?u=5743622aaaccd2b602530d50b&amp\;id=792d5c2078&amp\;e=53cb83fd11" style="-ms-text-size-adjust:100%\;-webkit-text-size-adjust:100%\;" target="_blank"><span style="color:#2BAADF\;">The Bull Run<br />\n									215 Great Rd.<br />\n									Shirley\, MA</span></a></span></span></span><br />\n									<br />\n									&nbsp\;\n									<div align="center" style="text-align:center\;line-height:150%\;">\n									<hr align="center" size="2" width="100%" /></div>\n									<br />\n									<br />\n									<strong><span style="color:firebrick\;"><span style="font-family:helvetica\,sans-serif\;"><span style="font-size:18.0pt\;">FEBRUARY</span></span></span></strong><br />\n									<br />\n									<span style="color:#202020\;"><span style="font-family:helvetica\,sans-serif\;"><span style="font-size:13.5pt\;"><a href="https://gallerysitka.us2.list-manage.com/track/click?u=5743622aaaccd2b602530d50b&amp\;id=64a43d7b28&amp\;e=53cb83fd11" style="-ms-text-size-adjust:100%\;-webkit-text-size-adjust:100%\;" target="_blank"><span style="color:#2BAADF\;">Saturday\, Feb. 10\,&nbsp\; 1&nbsp\;&mdash\; 4 PM</span></a></span></span></span><br />\n									<strong><span style="color:firebrick\;"><span style="font-family:helvetica\,sans-serif\;"><span style="font-size:13.5pt\;">&quot\;A Promise of Things to Come&quot\;</span></span></span></strong><br />\n									<span style="color:#202020\;"><span style="font-family:helvetica\,sans-serif\;"><span style="font-size:13.5pt\;">A Plein Air Show by <a href="https://gallerysitka.us2.list-manage.com/track/click?u=5743622aaaccd2b602530d50b&amp\;id=8d61982dcb&amp\;e=53cb83fd11" style="-ms-text-size-adjust:100%\;-webkit-text-size-adjust:100%\;" target="_blank"><span style="color:#2BAADF\;">Doreen LaScola</span></a>\,&nbsp\;with New Work by <a href="https://gallerysitka.us2.list-manage.com/track/click?u=5743622aaaccd2b602530d50b&amp\;id=58339dfd33&amp\;e=53cb83fd11" style="-ms-text-size-adjust:100%\;-webkit-text-size-adjust:100%\;" target="_blank"><span style="color:#2BAADF\;">Thomas W. Bradley</span></a>\, work by <a href="https://gallerysitka.us2.list-manage.com/track/click?u=5743622aaaccd2b602530d50b&amp\;id=0e2ea68b02&amp\;e=53cb83fd11" style="-ms-text-size-adjust:100%\;-webkit-text-size-adjust:100%\;" target="_blank"><span style="color:#2BAADF\;">Joelle Feldman</span></a>\, and we will introduce a new artist to the gallery as well during this show.<br />\n									Location:<br />\n									<a href="https://gallerysitka.us2.list-manage.com/track/click?u=5743622aaaccd2b602530d50b&amp\;id=cd859c4bd5&amp\;e=53cb83fd11" style="-ms-text-size-adjust:100%\;-webkit-text-size-adjust:100%\;" target="_blank"><span style="color:#2BAADF\;">Gallery Sitka West<br />\n									454 Main St.<br />\n									Fitchburg\, MA 01420</span></a></span></span></span><br />\n									<br />\n									<span style="color:#202020\;"><span style="font-family:helvetica\,sans-serif\;"><a href="https://gallerysitka.us2.list-manage.com/track/click?u=5743622aaaccd2b602530d50b&amp\;id=f3f21b0c5b&amp\;e=53cb83fd11" style="-ms-text-size-adjust:100%\;-webkit-text-size-adjust:100%\;" target="_blank"><span style="color:#2BAADF\;">Plan Dinner after the Show</span></a><br />\n									<br />\n									Before/After the Show\, Shop/Play:<br />\n									<a href="https://gallerysitka.us2.list-manage.com/track/click?u=5743622aaaccd2b602530d50b&amp\;id=9f7d926246&amp\;e=53cb83fd11" style="-ms-text-size-adjust:100%\;-webkit-text-size-adjust:100%\;" target="_blank"><span style="color:#2BAADF\;">Shack&#39\;s</span></a>&nbsp\;+ <a href="https://gallerysitka.us2.list-manage.com/track/click?u=5743622aaaccd2b602530d50b&amp\;id=2ee74407e4&amp\;e=53cb83fd11" style="-ms-text-size-adjust:100%\;-webkit-text-size-adjust:100%\;" target="_blank"><span style="color:#2BAADF\;">Duvarney Jeweler&#39\;s</span></a><br />\n									<a href="https://gallerysitka.us2.list-manage.com/track/click?u=5743622aaaccd2b602530d50b&amp\;id=14d037e8ae&amp\;e=53cb83fd11" style="-ms-text-size-adjust:100%\;-webkit-text-size-adjust:100%\;" target="_blank"><span style="color:#2BAADF\;">Plan an Escape</span></a><br />\n									or See MORE ART:<br />\n									<a href="https://gallerysitka.us2.list-manage.com/track/click?u=5743622aaaccd2b602530d50b&amp\;id=8942fd57c5&amp\;e=53cb83fd11" style="-ms-text-size-adjust:100%\;-webkit-text-size-adjust:100%\;" target="_blank"><span style="color:#2BAADF\;">Fitchburg Art Museum</span></a><br />\n									<a href="https://gallerysitka.us2.list-manage.com/track/click?u=5743622aaaccd2b602530d50b&amp\;id=a7d3188391&amp\;e=53cb83fd11" style="-ms-text-size-adjust:100%\;-webkit-text-size-adjust:100%\;" target="_blank"><span style="color:#2BAADF\;">Boulder Art Gallery</span></a></span></span></td>\n								</tr>\n							</tbody>\n						</table>\n						</td>\n					</tr>\n				</tbody>\n			</table>\n			</td>\n		</tr>\n	</tbody>\n</table>\n&nbsp\;\n\n<table border="0" cellpadding="0" cellspacing="0" style="width:100.0%\;border-collapse:collapse\;min-width:100%\;-ms-text-size-adjust:100%\;-webkit-text-size-adjust:100%\;" width="100%">\n	<tbody>\n		<tr>\n			<td style="padding:13.5pt 13.5pt 13.5pt 13.5pt\;min-width:100%\;-ms-text-size-adjust:100%\;-webkit-text-size-adjust:100%\;">\n			<table border="1" cellpadding="0" cellspacing="0" style="width:100.0%\;border-collapse:collapse\;border:none\;min-width:100%\;-ms-text-size-adjust:100%\;-webkit-text-size-adjust:100%\;" width="100%">\n				<tbody>\n					<tr>\n						<td style="border:none\;border-top:solid #EAEAEA 1.5pt\;padding:0in 0in 0in 0in\;min-width:100%\;-ms-text-size-adjust:100%\;-webkit-text-size-adjust:100%\;">&nbsp\;</td>\n					</tr>\n				</tbody>\n			</table>\n			</td>\n		</tr>\n	</tbody>\n</table>\n&nbsp\;\n\n<table border="0" cellpadding="0" cellspacing="0" style="width:100.0%\;border-collapse:collapse\;min-width:100%\;-ms-text-size-adjust:100%\;-webkit-text-size-adjust:100%\;" width="100%">\n	<tbody>\n		<tr>\n			<td style="padding:6.75pt 0in 0in 0in\;-ms-text-size-adjust:100%\;-webkit-text-size-adjust:100%\;vertical-align:top\;">\n			<table align="left" border="0" cellpadding="0" cellspacing="0" style="width:100.0%\;border-collapse:collapse\;margin-left:-2.25pt\;margin-right:-2.25pt\;-ms-text-size-adjust:100%\;-webkit-text-size-adjust:100%\;" width="100%">\n				<tbody>\n					<tr>\n						<td style="width:600px\;padding:0in 0in 0in 0in\;max-width:100%\;min-width:100%\;-ms-text-size-adjust:100%\;-webkit-text-size-adjust:100%\;vertical-align:top\;">\n						<table align="left" border="0" cellpadding="0" cellspacing="0" style="width:100.0%\;border-collapse:collapse\;-ms-text-size-adjust:100%\;-webkit-text-size-adjust:100%\;word-break:break-word\;" width="100%">\n							<tbody>\n								<tr>\n									<td style="padding:0in 13.5pt 6.75pt 13.5pt\;vertical-align:top\;"><strong><span style="color:firebrick\;"><span style="font-family:helvetica\,sans-serif\;"><span style="font-size:18.0pt\;">APRIL</span></span></span></strong><br />\n									<br />\n									<span style="color:#202020\;"><span style="font-family:helvetica\,sans-serif\;"><span style="font-size:13.5pt\;"><a href="https://gallerysitka.us2.list-manage.com/track/click?u=5743622aaaccd2b602530d50b&amp\;id=18ac44e8bf&amp\;e=53cb83fd11" style="-ms-text-size-adjust:100%\;-webkit-text-size-adjust:100%\;" target="_blank"><span style="color:#2BAADF\;">Saturday\, April&nbsp\;14\,&nbsp\; 2&nbsp\;&mdash\; 4 PM</span></a></span></span></span><br />\n									<strong><span style="color:firebrick\;"><span style="font-family:helvetica\,sans-serif\;"><span style="font-size:13.5pt\;">Earth Day &mdash\; Colette Shumate Smith</span></span></span></strong><br />\n									<span style="color:#202020\;"><span style="font-family:helvetica\,sans-serif\;"><span style="font-size:13.5pt\;">New work by <a href="https://gallerysitka.us2.list-manage.com/track/click?u=5743622aaaccd2b602530d50b&amp\;id=f666d046d9&amp\;e=53cb83fd11" style="-ms-text-size-adjust:100%\;-webkit-text-size-adjust:100%\;" target="_blank"><span style="color:#2BAADF\;">Colette Shumate Smith</span></a>. This show is open to submissions.&nbsp\;<a href="https://gallerysitka.us2.list-manage.com/track/click?u=5743622aaaccd2b602530d50b&amp\;id=5281113638&amp\;e=53cb83fd11" style="-ms-text-size-adjust:100%\;-webkit-text-size-adjust:100%\;" target="_blank"><span style="color:#2BAADF\;">View the Call for Art.</span></a><br />\n									Location:&#8203\;<br />\n									<a href="https://gallerysitka.us2.list-manage.com/track/click?u=5743622aaaccd2b602530d50b&amp\;id=fc94a6961b&amp\;e=53cb83fd11" style="-ms-text-size-adjust:100%\;-webkit-text-size-adjust:100%\;" target="_blank"><span style="color:#2BAADF\;">Gallery Sitka West<br />\n									454 Main St.<br />\n									Fitchburg\, MA 01420</span></a></span></span></span><br />\n									<br />\n									<br />\n									<strong><span style="color:#656565\;"><span style="font-family:helvetica\,sans-serif\;"><span style="font-size:9.0pt\;">Our mailing address is:</span></span></span></strong><br />\n									<span style="color:#656565\;"><span style="font-family:helvetica\,sans-serif\;"><span style="font-size:9.0pt\;">2 Shaker Rd.\, D101\, Shirley\, MA 01464<br />\n									or<br />\n									454 Main St.\, Fitchburg\, MA 01464</span></span></span><br />\n									<br />\n									&nbsp\;</td>\n								</tr>\n							</tbody>\n						</table>\n						</td>\n					</tr>\n				</tbody>\n			</table>\n			</td>\n		</tr>\n	</tbody>\n</table>\n
LOCATION:
UID:e.518.32699
SEQUENCE:3
DTSTAMP:20260426T042502Z
URL:https://business.nvcoc.com/events/details/liberty-hotel-art-pop-up-32699
END:VEVENT

END:VCALENDAR
