BEGIN:VCALENDAR
VERSION:2.0
PRODID:-//ChamberMaster//Event Calendar 2.0//EN
METHOD:PUBLISH
X-PUBLISHED-TTL:P3D
REFRESH-INTERVAL:P3D
CALSCALE:GREGORIAN
BEGIN:VEVENT
DTSTART:20180112T130000Z
DTEND:20180112T143000Z
X-MICROSOFT-CDO-ALLDAYEVENT:FALSE
SUMMARY:* Let's Fix This
DESCRIPTION:Let's Fix This!\n\n\n\nJoin the Devens Eco-Efficiency Center\, 33 Andrews Parkway\, Devens\, this Friday\, January 12\, from 8:00   9:30 am\, to hear several local Environmental\, Health and Safety (EHS) professionals share their challenges and successful strategies related to:\n\n\n\n  Confined space\n\n  Emergency response\n\n  Contractor safety\n\n  EHS incident reporting\n\n\n\nBring your own EHS story to review and discuss with your colleagues. This is a greatopportunity to partner and learn from your local peers. RSVP
X-ALT-DESC;FMTTYPE=text/html:<br />\n<span class="fontstyle0">Let&rsquo\;s Fix This!<br />\n<br />\nJoin the Devens Eco-Efficiency Center\, 33 Andrews Parkway\, Devens\, this Friday\, January 12\, from 8:00 &ndash\; 9:30 am\, to hear several local Environmental\, Health and Safety (EHS) professionals share their challenges and successful strategies related to:</span><br />\n<br />\n<span class="fontstyle2">&#61623\; </span><span class="fontstyle0">Confined space</span><br />\n<span class="fontstyle2">&#61623\; </span><span class="fontstyle0">Emergency response</span><br />\n<span class="fontstyle2">&#61623\; </span><span class="fontstyle0">Contractor safety</span><br />\n<span class="fontstyle2">&#61623\; </span><span class="fontstyle0">EHS incident reporting<br />\n<br />\nBring your own EHS story to review and discuss with your colleagues. T</span><span class="fontstyle0" style="color:rgb(51\,51\,51)\;">his is a greatopportunity to partner and learn from your local peers. </span><span class="fontstyle0" style="color:rgb(0\,0\,255)\;">RSVP</span>&nbsp\;&nbsp\;
LOCATION:Devens Eco-Efficiency Center 33 Andrews Parkway\, Devens
UID:e.518.32631
SEQUENCE:3
DTSTAMP:20260426T042359Z
URL:https://business.nvcoc.com/events/details/let-s-fix-this-32631
END:VEVENT

END:VCALENDAR
