BEGIN:VCALENDAR
VERSION:2.0
PRODID:-//ChamberMaster//Event Calendar 2.0//EN
METHOD:PUBLISH
X-PUBLISHED-TTL:P3D
REFRESH-INTERVAL:P3D
CALSCALE:GREGORIAN
BEGIN:VEVENT
DTSTART;VALUE=DATE:20180130
DTEND;VALUE=DATE:20180131
TRANSP:TRANSPARENT
X-MICROSOFT-CDO-ALLDAYEVENT:TRUE
SUMMARY:* Kettlebell AMPD at Bodylines Pilates
DESCRIPTION:Kettlebell AMPD\n\nTuesdays 4:30-5pm\n\nBeginning February 6th\n\nKettlebell AMPD takes heart-pumping music and your favorite kettlebell moves and combines them into 30 minutes of calorie-torching fun! This whole-body workout emphasizes group fitness and focuses on specific areas such as arms\, legs\, core\, and cardio. Each song concentrates on a main area\, while still maintaining a whole-body routine. Sign up for class!\n\n\n\nhttps://clients.mindbodyonline.com/classic/ws?studioid=8199&stype=-7&sView=day&sLoc=2&sTrn=100000034&date=02/06/18&sessionChecked=true
X-ALT-DESC;FMTTYPE=text/html:<span style="font-family:times new roman\,serif\;"><span style="font-size:12.0pt\;">Kettlebell AMPD</span></span><br />\n<span style="font-family:times new roman\,serif\;"><span style="font-size:12.0pt\;">Tuesdays 4:30-5pm</span></span><br />\n<span style="font-family:times new roman\,serif\;"><span style="font-size:12.0pt\;">Beginning February 6th</span></span><br />\n<span style="font-family:times new roman\,serif\;"><span style="font-size:12.0pt\;">Kettlebell AMPD takes heart-pumping music and your favorite kettlebell moves and combines them into 30 minutes of calorie-torching fun! This whole-body workout emphasizes group fitness and focuses on specific areas such as arms\, legs\, core\, and cardio. Each song concentrates on a main area\, while still maintaining a whole-body routine. Sign up for class!</span></span><br />\n<br />\nhttps://clients.mindbodyonline.com/classic/ws?studioid=8199&amp\;stype=-7&amp\;sView=day&amp\;sLoc=2&amp\;sTrn=100000034&amp\;date=02/06/18&amp\;sessionChecked=true
LOCATION:
UID:e.518.32716
SEQUENCE:3
DTSTAMP:20260426T043401Z
URL:https://business.nvcoc.com/events/details/kettlebell-ampd-at-bodylines-pilates-32716
END:VEVENT

END:VCALENDAR
